BEGIN:VCALENDAR
VERSION:2.0
PRODID:-//Playfessionals - ECPv6.15.20//NONSGML v1.0//EN
CALSCALE:GREGORIAN
METHOD:PUBLISH
X-ORIGINAL-URL:https://playfessionals.com
X-WR-CALDESC:Events for Playfessionals
REFRESH-INTERVAL;VALUE=DURATION:PT1H
X-Robots-Tag:noindex
X-PUBLISHED-TTL:PT1H
BEGIN:VTIMEZONE
TZID:UTC
BEGIN:STANDARD
TZOFFSETFROM:+0000
TZOFFSETTO:+0000
TZNAME:UTC
DTSTART:20230101T000000
END:STANDARD
END:VTIMEZONE
BEGIN:VEVENT
DTSTART;TZID=UTC:20251115T210000
DTEND;TZID=UTC:20251116T010000
DTSTAMP:20260423T172752
CREATED:20251013T171057Z
LAST-MODIFIED:20260206T183718Z
UID:26794-1763240400-1763254800@playfessionals.com
SUMMARY:Playfessionals Black Tie Masquerade Volume #4
DESCRIPTION:[vc_row row_background_lines=”none”][vc_column][vc_single_image image=”27443″ img_size=”full” css=””][vc_column_text css_animation=”fadeIn” css=”.vc_custom_1762374315923{margin-right: 15px !important;margin-left: 15px !important;}”] \nStep into a world of allure as Playfessionals Masquerade brings together the Twin Cities’ sophisticated professionals for an unforgettable night. At The Stroke of Midnight\, immerse yourself in an atmosphere filled with intrigue\, where every moment is an opportunity to connect\, celebrate\, and shine.\n  \nJoin a diverse gathering of esteemed professionals\, tastemakers\, and socialites for a Saturday evening marked by cocktails\, captivating conversations\, and connections that last beyond the night. Whether you’re here to network or simply enjoy the company of like-minded peers\, this is your chance to expound on both your social and professional circles in a chic and stylish setting. \nWhat to Expect:\n\nAn Evening of Elegance – Expect nothing less than a high-energy\, upscale experience with signature drinks and sophisticated ambiance.\nMystery and Glamour – Let the night unfold as you blend into the mysterious yet vibrant energy of the masquerade.\nNetworking Opportunities – Connect with professionals from various industries in a dynamic\, relaxed\, and open environment.\n\nDress Code:\n**Black Tie REQUIRED** \nBlack Attire Requested /  This is your chance to express your most fashionable self. The attire is always chic\, so bring your best look! Arriving early ensures you’re part of the grand entrance—fashionably ahead of the crowd.[/vc_column_text][vc_empty_space][vc_single_image image=”27446″ img_size=”full” css=””][vc_empty_space][vc_custom_heading text=”” font_container=”tag:h3|text_align:left” use_theme_fonts=”yes” css=””][vc_column_text css=””] \nThis 21+ networking event will be between 9pm-1am with all tickets being available to be purchased online as we will have no ticket sales at the door. \n[/vc_column_text][vc_empty_space][vc_single_image image=”27441″ img_size=”full” css=””][vc_empty_space][vc_single_image image=”27447″ img_size=”full” css=””][vc_empty_space][vc_single_image image=”27437″ img_size=”full” css=””][vc_empty_space][vc_single_image image=”27440″ img_size=”full” css=””][vc_empty_space][vc_row_inner gap=”15″][vc_column_inner width=”1/4″][vc_single_image image=”27449″ img_size=”FULL” css=””][/vc_column_inner][vc_column_inner width=”1/4″][vc_single_image image=”27452″ img_size=”FULL” css=””][/vc_column_inner][vc_column_inner width=”1/4″][vc_single_image image=”27450″ img_size=”FULL” css=””][/vc_column_inner][vc_column_inner width=”1/4″][vc_single_image image=”27451″ img_size=”FULL” css=””][/vc_column_inner][/vc_row_inner][vc_empty_space][vc_custom_heading text=”PARKING & VALET AVAILABLE” font_container=”tag:h3|text_align:left” use_theme_fonts=”yes” css=””][vc_single_image image=”26811″ img_size=”full” alignment=”center” css_animation=”fadeIn” css=””][vc_empty_space][vc_custom_heading text=”EVENT DETAILS” font_container=”tag:h3|text_align:left” use_theme_fonts=”yes”][vc_empty_space][vc_column_text css=””]Complimentary light Hors d’oeuvres\nEnjoy (while supplies last) \nToast under the veil of night\nCash bar is available[/vc_column_text][vc_empty_space][vc_separator color=”black” border_width=”2″ el_width=”80″ css_animation=”fadeIn” css=”.vc_custom_1762373950968{margin-top: 20px !important;margin-bottom: 20px !important;}”][vc_empty_space][vc_custom_heading text=”ROOMS AVAILABLE” font_container=”tag:h3|text_align:left” use_theme_fonts=”yes” css=””][vc_single_image image=”27456″ img_size=”full” css=””][vc_empty_space][vc_btn title=”Book a Room – Hotel Accommodations” style=”flat” shape=”round” color=”black” size=”lg” align=”center” css_animation=”fadeIn” css=”” button_block=”true” link=”url:https%3A%2F%2Fwww.marriott.com%2Fevent-reservations%2Freservation-link.mi%3Fid%3D1761332881899%26key%3DCORP%26dtt%3Dtrue%26app%3Dresvlink|target:_blank”][vc_empty_space][vc_separator color=”black” border_width=”2″ el_width=”80″ css_animation=”fadeIn” css=”.vc_custom_1762373950968{margin-top: 20px !important;margin-bottom: 20px !important;}”][vc_empty_space][vc_single_image image=”27444″ img_size=”full” css=””][vc_empty_space][vc_single_image image=”27438″ img_size=”full” css=””][vc_empty_space][vc_single_image image=”27445″ img_size=”full” css=””][vc_empty_space][vc_masonry_media_grid element_width=”3″ gap=”2″ css=”” initial_loading_animation=”fadeIn” grid_id=”vc_gid:1762374338891-c3130b99-4852-1″ include=”27418\,27432\,27431\,27430\,27429\,27427\,27425\,27424\,27423\,27422\,27420\,27419″][vc_empty_space][vc_custom_heading text=”REFUND POLICY” font_container=”tag:h3|text_align:left|color:%23000000″ use_theme_fonts=”yes” css=””][vc_column_text css=””]Unfortunately NO REFUNDS or RAINCHECKS (unless event is cancelled) will be issued on entrance tickets to event. \n* This event is black tie. Proper attire required for entry. Mask is not required for entry.[/vc_column_text][vc_empty_space][vc_empty_space][/vc_column][/vc_row][vc_row row_background_lines=”none”][vc_column][/vc_column][/vc_row][vc_row row_background_lines=”none”][vc_column][vc_column_text css=””]Complimentary light Hors d’oeuvres\n(while supply last) \nToast \nCash bar is available[/vc_column_text][/vc_column][/vc_row]
URL:https://playfessionals.com/network-event/playfessionals-black-tie-masquerade-volume-4-at-the-stroke-of-midnight/
LOCATION:Rand Tower Hotel\, 527 S Marquette Ave\, Minneapolis\, MN\, 55402\, United States
CATEGORIES:Masquerade,Playfessionals
ATTACH;FMTTYPE=image/jpeg:https://playfessionals.com/wp-content/uploads/2025/10/flyer.jpg
ORGANIZER;CN="Playfessionals":MAILTO:concierge@playfessionals.com
END:VEVENT
BEGIN:VEVENT
DTSTART;TZID=UTC:20241025T210000
DTEND;TZID=UTC:20241026T010000
DTSTAMP:20260423T172752
CREATED:20240925T195728Z
LAST-MODIFIED:20241026T035126Z
UID:16490-1729890000-1729904400@playfessionals.com
SUMMARY:Playfessionals Black Tie Masquerade Volume #3 Suits & Stilettos
DESCRIPTION:[vc_row row_background_lines=”none”][vc_column][vc_custom_heading text=”Playfessionals presents  Under the Veil of Night\, a Suits & Stilettos Black Tie Masquerade Volume #3. ” font_container=”tag:h1|font_size:40PX|text_align:center|color:%23000000″ use_theme_fonts=”yes” css_animation=”fadeIn” css=””][vc_column_text css_animation=”fadeIn” css=”.vc_custom_1727646459937{margin-right: 15px !important;margin-left: 15px !important;}”]Step into a world of allure as Playfessionals Masquerade brings together the Twin Cities’ sophisticated professionals for an unforgettable night. Under the veil of night\, immerse yourself in an atmosphere filled with intrigue\, where every moment is an opportunity to connect\, celebrate\, and shine. \nJoin a diverse gathering of esteemed professionals\, tastemakers\, and socialites for a Friday evening marked by cocktails\, captivating conversations\, and connections that last beyond the night. Whether you’re here to network or simply enjoy the company of like-minded peers\, this is your chance to expound on both your social and professional circles in a chic and stylish setting. \nWhat to Expect: \n\nAn Evening of Elegance – Expect nothing less than a high-energy\, upscale experience with signature drinks and sophisticated ambiance.\nMystery and Glamour – Let the night unfold as you blend into the mysterious yet vibrant energy of the masquerade.\nNetworking Opportunities – Connect with professionals from various industries in a dynamic\, relaxed\, and open environment.\n\nDress Code:\nCocktail & Black Tie – This is your chance to express your most fashionable self. The attire is always chic\, so bring your best look! Arriving early ensures you’re part of the grand entrance—fashionably ahead of the crowd. \nSounds By:\nDJ Shu and DJ Enferno will set the vibe with a mix of high-energy beats and sophisticated sounds\, creating the perfect backdrop for a night of celebration and connection.[/vc_column_text][vc_empty_space][vc_single_image image=”16562″ img_size=”full” css=””][vc_custom_heading text=”” font_container=”tag:h3|text_align:left” use_theme_fonts=”yes” css=””][vc_empty_space][vc_column_text css=””] \nThis 21+ networking event will be between 9pm-1am with all tickets being available to be purchased online as we will have no ticket sales at the door. \n[/vc_column_text][vc_empty_space][vc_single_image image=”16559″ img_size=”full” css=””][vc_empty_space][vc_custom_heading text=”PARKING” font_container=”tag:h3|text_align:left” use_theme_fonts=”yes” css=””][vc_single_image image=”17428″ img_size=”full” alignment=”center” css_animation=”fadeIn” css=””][vc_empty_space][vc_custom_heading text=”EVENT DETAILS” font_container=”tag:h3|text_align:left” use_theme_fonts=”yes”][vc_column_text css=””]Complimentary light Hors d’oeuvres\nEnjoy (while supplies last) \nSponsored by Branson Construction \nToast under the veil of night\nCash bar is available courtesy of Toast Tours[/vc_column_text][vc_custom_heading text=”” font_container=”tag:h3|text_align:left” use_theme_fonts=”yes” css=””][vc_column_text css=””]REFUND POLICY \nUnfortunately NO REFUNDS or RAINCHECKS (unless event is cancelled) will be issued on entrance tickets to event. \n* This event is black tie. Proper attire required for entry. Mask is not required for entry.[/vc_column_text][vc_single_image image=”16561″ img_size=”full” css=””][vc_empty_space][vc_empty_space][vc_row_inner][vc_column_inner width=”1/4″][vc_empty_space][/vc_column_inner][vc_column_inner width=”1/4″][vc_custom_heading text=”Lite Bites Sponsored by” font_container=”tag:h3|text_align:left” use_theme_fonts=”yes” css=””][vc_single_image image=”17281″ img_size=”200×200″ alignment=”center” style=”vc_box_rounded” css_animation=”fadeIn” css=””][vc_empty_space][/vc_column_inner][vc_column_inner width=”1/4″][vc_custom_heading text=”Libations By” font_container=”tag:h3|text_align:left” use_theme_fonts=”yes” css=””][vc_single_image image=”15303″ img_size=”large” css=””][vc_empty_space][/vc_column_inner][vc_column_inner width=”1/4″][vc_custom_heading text=”Location” font_container=”tag:h3|text_align:left” use_theme_fonts=”yes” css=””][vc_single_image image=”15662″ img_size=”large” css=””][vc_empty_space][/vc_column_inner][/vc_row_inner][vc_single_image image=”17291″ img_size=”full” css=””][/vc_column][/vc_row][vc_row row_background_lines=”none”][vc_column][vc_masonry_media_grid element_width=”3″ gap=”2″ css=”” initial_loading_animation=”fadeIn” grid_id=”vc_gid:1729897235752-8698cf2b-5927-4″ include=”16520\,16528\,16513\,16514\,16515\,16525\,16524\,16527\,16529″][/vc_column][/vc_row][vc_row disable_element=”yes” row_background_lines=”none”][vc_column][vc_column_text css=””]Complimentary light Hors d’oeuvres\nEnjoy the taste of Klassics Kitchen & Cocktails (while supply last) \nToast under the veil of night\nCash bar is available courtesy of Toast Tours[/vc_column_text][vc_column_text css_animation=”fadeIn” css=””]Playfessionals presents Under the Veil of Night\, a Playfessionals Suits & Stilettos Masquerade Volume #3.  \nUnder the veil of night\, a gathering of sophisticated Professionals will convene for an Evening of Elegance\, Mystery\, and Networking. \nJoin the many Twin Cities professionals\, tastemakers & socialites for a beautiful Friday evening of cocktails & connections. \nAttire for this event is always chic\, bring the best you! Be sure to arrive early and fashionable. \nSounds by DJ Shu & DJ Enferno\n[/vc_column_text][/vc_column][/vc_row]
URL:https://playfessionals.com/network-event/playfessionals-masquerade-volume-3-suits-stilettos/
LOCATION:The B Suite\, 81 South 9th St\, Minneapolis\, MN\, 55402\, United States
CATEGORIES:Masquerade,Playfessionals
ATTACH;FMTTYPE=image/jpeg:https://playfessionals.com/wp-content/uploads/2024/09/PF-Masquearde-Cover-large-1.jpg
ORGANIZER;CN="Playfessionals":MAILTO:concierge@playfessionals.com
END:VEVENT
END:VCALENDAR