BEGIN:VCALENDAR
VERSION:2.0
PRODID:-//Playfessionals - ECPv6.15.20//NONSGML v1.0//EN
CALSCALE:GREGORIAN
METHOD:PUBLISH
X-WR-CALNAME:Playfessionals
X-ORIGINAL-URL:https://playfessionals.com
X-WR-CALDESC:Events for Playfessionals
REFRESH-INTERVAL;VALUE=DURATION:PT1H
X-Robots-Tag:noindex
X-PUBLISHED-TTL:PT1H
BEGIN:VTIMEZONE
TZID:America/Chicago
BEGIN:DAYLIGHT
TZOFFSETFROM:-0600
TZOFFSETTO:-0500
TZNAME:CDT
DTSTART:20240310T080000
END:DAYLIGHT
BEGIN:STANDARD
TZOFFSETFROM:-0500
TZOFFSETTO:-0600
TZNAME:CST
DTSTART:20241103T070000
END:STANDARD
BEGIN:DAYLIGHT
TZOFFSETFROM:-0600
TZOFFSETTO:-0500
TZNAME:CDT
DTSTART:20250309T080000
END:DAYLIGHT
BEGIN:STANDARD
TZOFFSETFROM:-0500
TZOFFSETTO:-0600
TZNAME:CST
DTSTART:20251102T070000
END:STANDARD
BEGIN:DAYLIGHT
TZOFFSETFROM:-0600
TZOFFSETTO:-0500
TZNAME:CDT
DTSTART:20260308T080000
END:DAYLIGHT
BEGIN:STANDARD
TZOFFSETFROM:-0500
TZOFFSETTO:-0600
TZNAME:CST
DTSTART:20261101T070000
END:STANDARD
END:VTIMEZONE
BEGIN:VEVENT
DTSTART;TZID=America/Chicago:20250603T183000
DTEND;TZID=America/Chicago:20250603T200000
DTSTAMP:20260424T071754
CREATED:20250503T134919Z
LAST-MODIFIED:20250503T134944Z
UID:21398-1748975400-1748980800@playfessionals.com
SUMMARY:June 3 -  Session 2 - PF Pure Drive Group Golf Lessons - Season 3
DESCRIPTION:[vc_row row_background_lines=”none”][vc_column][vc_column_text css=””] \n\nJoin us for PureDrive:On & Off the Course.\n\nPlayfessionals Pure Drive is a session of group golf lessons designed for Beginners\, novice and advanced players to learn the game from golf professionals and prepare you for your next corporate golf outing or round with friends. We know business also happens on the Golf Course but why not have some fun! \nSpace is limited. Bring your own clubs or the Golf Professional will have Clubs for you as well! \n\nDESIGNED FOR BEGINNERS\,NOVICE AND ADVANCED PLAYERS TO LEARN THE GAME FROM GOLF PROFESSIONALS AND PREPARE YOU FOR YOUR NEXT GOLF OUTING.\n\n[/vc_column_text][vc_single_image image=”3403″ img_size=”full” alignment=”center” css=””][vc_empty_space][vc_masonry_media_grid css=”” grid_id=”vc_gid:1746278539180-bf04886a-71f2-0″ include=”3408\,14291\,14282\,3639\,3631\,14612\,3577\,3537\,3377″][vc_empty_space][vc_single_image image=”3588″ img_size=”full” alignment=”center” css=””][vc_column_text css=””]ABOUT THE GOLF PRO:\nBryan Skavnak \nBryan Skavnak is the happiest golf professional in Minnesota.  Through his heartfelt and sometimes goofy stories\, Bryan blends humor and inspiration to teach you about golf and life.  He is the author of the #1 Best Selling book\, Happy Golf Starts Here.  He is the founder of the Bryan Skavnak Golf Academy\, which for nearly 20 years has taught kids and adults how to have more fun and confidence by showing them that score doesn’t matter\, people do. \nAs an inspiring speaker and writer\, Bryan has helped thousands of golfers (and non-golfers) achieve their dream of being happier and more confident by revealing how to surround themselves with a team of good people and embrace how the game of golf can improve relationships. \n  \nWhats the Goal?: \nWe are working up to our yearly 9 Hole Golf Challenge that will take place on Sunday\, August 24\, 2025 at Braemar Golf Course. This fun fill weekend will include a S.I.P event\, Friday Night Yacht Excursion\, the Gathering on the Green the post Challenge social and day party![/vc_column_text][vc_single_image image=”21333″ img_size=”full” alignment=”center” css=””][vc_empty_space][/vc_column][/vc_row][vc_row disable_element=”yes” row_background_lines=”none”][vc_column][vc_masonry_media_grid element_width=”2″ css=”” grid_id=”vc_gid:1746278539192-061bc2b3-2b37-10″ include=”21327\,21363\,21323\,21332\,21379\,21356\,21347\,21358\,21390\,21370\,21326\,21373\,21342\,21383\,21385\,21328\,21338\,21382\,21331\,21337\,21348\,21375\,21343\,21345\,21389\,21351\,21362\,21367\,21360\,21372\,21378\,21381″][vc_masonry_media_grid element_width=”2″ css=”” grid_id=”vc_gid:1746278539227-d4e42f14-d3bb-9″ include=”21327\,21363\,21323\,21332\,21356\,21347\,21358\,21390\,21370\,21326\,21342\,21383\,21328\,21338\,21382\,21331\,21387\,21335\,21336\,21337\,21340\,21348\,21375\,21341\,21343\,21345\,21380\,21346\,21371\,21349\,21389\,21350\,21351\,21352\,21357\,21359\,21361\,21362\,21364\,21365\,21366\,21367\,21368\,21360\,21339\,21372\,21373\,21374\,21376\,21377\,21378\,21379\,21381\,21385\,21388″][/vc_column][/vc_row]
URL:https://playfessionals.com/network-event/june-3-session-1-pf-pure-drive-group-golf-lessons-season-3/
LOCATION:Edinburgh Golf Course 8700 Edinbrook Crossing Brooklyn Park\, MN 55443\, 8700 Edinbrook Crossing\, Brooklyn Park\, 55443\, United States
CATEGORIES:Country Club,Pure Drive Group Golf Lessons
ATTACH;FMTTYPE=image/jpeg:https://playfessionals.com/wp-content/uploads/2025/05/PF-Pure-Drive-Season-3-square.jpg
ORGANIZER;CN="Playfessionals":MAILTO:concierge@playfessionals.com
END:VEVENT
BEGIN:VEVENT
DTSTART;TZID=America/Chicago:20250612T183000
DTEND;TZID=America/Chicago:20250612T200000
DTSTAMP:20260424T071754
CREATED:20250503T135250Z
LAST-MODIFIED:20250612T205953Z
UID:21402-1749753000-1749758400@playfessionals.com
SUMMARY:June 12 -  Session 3 - PF Pure Drive Group Golf Lessons - Season 3
DESCRIPTION:[vc_row row_background_lines=”none”][vc_column][vc_column_text css=””] \n\nJoin us for PureDrive:On & Off the Course.\n\nPlayfessionals Pure Drive is a session of group golf lessons designed for Beginners\, novice and advanced players to learn the game from golf professionals and prepare you for your next corporate golf outing or round with friends. We know business also happens on the Golf Course but why not have some fun! \nSpace is limited. Bring your own clubs or the Golf Professional will have Clubs for you as well! \n\nDESIGNED FOR BEGINNERS\,NOVICE AND ADVANCED PLAYERS TO LEARN THE GAME FROM GOLF PROFESSIONALS AND PREPARE YOU FOR YOUR NEXT GOLF OUTING.\n\n[/vc_column_text][vc_single_image image=”3403″ img_size=”full” alignment=”center” css=””][vc_empty_space][vc_masonry_media_grid css=”” grid_id=”vc_gid:1746278539180-bf04886a-71f2-0″ include=”3408\,14291\,14282\,3639\,3631\,14612\,3577\,3537\,3377″][vc_empty_space][vc_single_image image=”3588″ img_size=”full” alignment=”center” css=””][vc_column_text css=””]ABOUT THE GOLF PRO:\nBryan Skavnak \nBryan Skavnak is the happiest golf professional in Minnesota.  Through his heartfelt and sometimes goofy stories\, Bryan blends humor and inspiration to teach you about golf and life.  He is the author of the #1 Best Selling book\, Happy Golf Starts Here.  He is the founder of the Bryan Skavnak Golf Academy\, which for nearly 20 years has taught kids and adults how to have more fun and confidence by showing them that score doesn’t matter\, people do. \nAs an inspiring speaker and writer\, Bryan has helped thousands of golfers (and non-golfers) achieve their dream of being happier and more confident by revealing how to surround themselves with a team of good people and embrace how the game of golf can improve relationships. \n  \nWhats the Goal?: \nWe are working up to our yearly 9 Hole Golf Challenge that will take place on Sunday\, August 24\, 2025 at Braemar Golf Course. This fun fill weekend will include a S.I.P event\, Friday Night Yacht Excursion\, the Gathering on the Green the post Challenge social and day party![/vc_column_text][vc_single_image image=”21333″ img_size=”full” alignment=”center” css=””][vc_empty_space][/vc_column][/vc_row][vc_row disable_element=”yes” row_background_lines=”none”][vc_column][vc_masonry_media_grid element_width=”2″ css=”” grid_id=”vc_gid:1746278539192-061bc2b3-2b37-10″ include=”21327\,21363\,21323\,21332\,21379\,21356\,21347\,21358\,21390\,21370\,21326\,21373\,21342\,21383\,21385\,21328\,21338\,21382\,21331\,21337\,21348\,21375\,21343\,21345\,21389\,21351\,21362\,21367\,21360\,21372\,21378\,21381″][vc_masonry_media_grid element_width=”2″ css=”” grid_id=”vc_gid:1746278539227-d4e42f14-d3bb-9″ include=”21327\,21363\,21323\,21332\,21356\,21347\,21358\,21390\,21370\,21326\,21342\,21383\,21328\,21338\,21382\,21331\,21387\,21335\,21336\,21337\,21340\,21348\,21375\,21341\,21343\,21345\,21380\,21346\,21371\,21349\,21389\,21350\,21351\,21352\,21357\,21359\,21361\,21362\,21364\,21365\,21366\,21367\,21368\,21360\,21339\,21372\,21373\,21374\,21376\,21377\,21378\,21379\,21381\,21385\,21388″][/vc_column][/vc_row]
URL:https://playfessionals.com/network-event/june-12-session-3-pf-pure-drive-group-golf-lessons-season-3/
LOCATION:Edinburgh Golf Course 8700 Edinbrook Crossing Brooklyn Park\, MN 55443\, 8700 Edinbrook Crossing\, Brooklyn Park\, 55443\, United States
CATEGORIES:Country Club,Pure Drive Group Golf Lessons
ATTACH;FMTTYPE=image/jpeg:https://playfessionals.com/wp-content/uploads/2025/05/PF-Pure-Drive-Season-3-square.jpg
ORGANIZER;CN="Playfessionals":MAILTO:concierge@playfessionals.com
END:VEVENT
BEGIN:VEVENT
DTSTART;TZID=America/Chicago:20250613T160000
DTEND;TZID=America/Chicago:20250613T200000
DTSTAMP:20260424T071754
CREATED:20250525T151812Z
LAST-MODIFIED:20250611T140154Z
UID:22299-1749830400-1749844800@playfessionals.com
SUMMARY:Postponed: Play Haus : P.T.O. Patio Take Over
DESCRIPTION:[vc_row full_width=”stretch_row” row_background_lines=”none”][vc_column][vc_column_text css=””] \nPOSTPONED UNTIL JUNE 29th\n\n\nIt’s giving ditch day energy and you deserve it!\nHerHaus and Playfessionals are teaming up for a summer kickoff like no other. We’re taking over the patio at North Loop Green for an elevated happy hour experience where vibes are high and responsibilities are low. \nWhether you’re cashing in PTO or just dipping out early\, come pull up for: \n\nA welcome drink + appetizers (while supplies last)\nFull bar + food available for purchase\nDJ Shu & DJ Ones bringing all the feel-good summer energy\nGood people\, great vibes\, and a little networking… no small talk\n\n  \nThis is your official invitation to take a break\, clock out early\, take up space\, and enjoy the sunshine with a community of professionals who know how to work and play. \nSpots are limited\, so grab your crew and secure your ticket. \nThis is your sign to turn your out-of-office on! \n#PatioTakeOver #PTOwithUs #HerHausxPlayfessionals[/vc_column_text][/vc_column][/vc_row][vc_row gap=”20″ row_background_lines=”none”][vc_column][vc_video link=”https://www.youtube.com/watch?v=JGLsvdGHnug” align=”center” css_animation=”fadeIn” css=””][/vc_column][/vc_row][vc_row gap=”20″ row_background_lines=”none”][vc_column][vc_single_image image=”22327″ img_size=”full” css=””][/vc_column][/vc_row][vc_row gap=”20″ row_background_lines=”none”][vc_column width=”1/2″][vc_single_image image=”22332″ img_size=”full” css=””][/vc_column][vc_column width=”1/2″][vc_single_image image=”22334″ img_size=”full” css=””][/vc_column][/vc_row][vc_row gap=”20″ row_background_lines=”none”][vc_column width=”1/2″][vc_single_image image=”22336″ img_size=”full” css=””][/vc_column][vc_column width=”1/2″][vc_single_image image=”22351″ img_size=”full” css=””][/vc_column][/vc_row][vc_row gap=”20″ row_background_lines=”none”][vc_column][vc_single_image image=”22347″ img_size=”full” css=””][/vc_column][/vc_row][vc_row gap=”20″ row_background_lines=”none”][vc_column width=”1/2″][vc_single_image image=”22348″ img_size=”full” css=””][/vc_column][vc_column width=”1/2″][vc_single_image image=”22346″ img_size=”full” css=””][/vc_column][/vc_row][vc_row gap=”20″ row_background_lines=”none”][vc_column width=”1/2″][vc_single_image image=”22326″ img_size=”full” css=””][/vc_column][vc_column width=”1/2″][vc_single_image image=”22349″ img_size=”full” css=””][/vc_column][/vc_row][vc_row gap=”20″ row_background_lines=”none”][vc_column][vc_single_image image=”22353″ img_size=”full” css=””][/vc_column][/vc_row][vc_row row_background_lines=”none”][vc_column width=”1/2″][vc_empty_space][vc_custom_heading text=”Presented by” font_container=”tag:h2|text_align:left|color:%23000000″ use_theme_fonts=”yes” css_animation=”fadeIn” css=””][/vc_column][vc_column width=”1/2″][/vc_column][/vc_row][vc_row content_placement=”middle” row_background_lines=”none”][vc_column width=”1/3″][vc_single_image image=”22357″ img_size=”full” alignment=”center” onclick=”custom_link” img_link_target=”_blank” css=”” link=”https://www.welcomeherhaus.com”][/vc_column][vc_column width=”1/3″][vc_single_image image=”25″ img_size=”full” css=””][/vc_column][vc_column width=”1/3″][/vc_column][/vc_row][vc_row row_background_lines=”none”][vc_column][vc_column_text css=””]About HerHaus \n\nHerHaus is redefining what it means to create spaces for Black women. It offers a haven where women can escape the demands of everyday life and immerse themselves in genuine connections.  \nThrough thoughtfully curated experiences\, HerHaus encourages Black women to embrace their individuality\, foster deep\, meaningful relationships\, and engage in open\, empowering conversations. It’s more than just a space—HerHaus is a celebration of identity\, resilience\, and community\, providing the comfort and confidence to be unapologetically oneself.[/vc_column_text][/vc_column][/vc_row][vc_row row_background_lines=”none”][vc_column width=”1/2″][vc_empty_space][vc_custom_heading text=”Sponsored by” font_container=”tag:h2|text_align:left|color:%23000000″ use_theme_fonts=”yes” css_animation=”fadeIn” css=””][/vc_column][vc_column width=”1/2″][/vc_column][/vc_row][vc_row row_background_lines=”none”][vc_column width=”1/4″][/vc_column][vc_column width=”1/4″][/vc_column][vc_column width=”1/4″][/vc_column][vc_column width=”1/4″][/vc_column][/vc_row]
URL:https://playfessionals.com/network-event/play-haus-p-t-o-patio-take-over/
LOCATION:North Loop Green\, 350 North 5th Street\, Minneapolis\, MN\, 55401\, United States
CATEGORIES:Playfessionals,PlayHaus
ATTACH;FMTTYPE=image/jpeg:https://playfessionals.com/wp-content/uploads/2025/05/Postpon-Play-Haus-Flyer-Story-3-1.jpg
END:VEVENT
BEGIN:VEVENT
DTSTART;TZID=America/Chicago:20250620T183000
DTEND;TZID=America/Chicago:20250620T200000
DTSTAMP:20260424T071754
CREATED:20250528T215121Z
LAST-MODIFIED:20250619T162255Z
UID:22555-1750444200-1750449600@playfessionals.com
SUMMARY:Friday June 20 -  Session 4 (New Hope) - PF Pure Drive Group Golf Lessons - Season 3
DESCRIPTION:[vc_row row_background_lines=”none”][vc_column][vc_column_text css=””] \n\nOn Course Lessons\nFor this session\, we venture to New Hope for an on course lesson on golf etiquette and play! \n PureDrive:On & Off the Course.\n\nPlayfessionals Pure Drive is a session of group golf lessons designed for Beginners\, novice and advanced players to learn the game from golf professionals and prepare you for your next corporate golf outing or round with friends. We know business also happens on the Golf Course but why not have some fun! \nSpace is limited. Bring your own clubs or the Golf Professional will have Clubs for you as well! \n\nDESIGNED FOR BEGINNERS\,NOVICE AND ADVANCED PLAYERS TO LEARN THE GAME FROM GOLF PROFESSIONALS AND PREPARE YOU FOR YOUR NEXT GOLF OUTING.\n\n[/vc_column_text][vc_single_image image=”14643″ img_size=”full” alignment=”center” css=””][vc_empty_space][vc_masonry_media_grid css=”” grid_id=”vc_gid:1748468152021-0175c796-1bc0-8″ include=”14640\,14641\,14639\,14638\,14627\,14628\,14614\,14612\,14610\,14601\,14599\,14603\,14613\,14594″][vc_empty_space][vc_single_image image=”14612″ img_size=”full” alignment=”center” css=””][vc_column_text css=””]ABOUT THE GOLF PRO:\nBryan Skavnak \nBryan Skavnak is the happiest golf professional in Minnesota.  Through his heartfelt and sometimes goofy stories\, Bryan blends humor and inspiration to teach you about golf and life.  He is the author of the #1 Best Selling book\, Happy Golf Starts Here.  He is the founder of the Bryan Skavnak Golf Academy\, which for nearly 20 years has taught kids and adults how to have more fun and confidence by showing them that score doesn’t matter\, people do. \nAs an inspiring speaker and writer\, Bryan has helped thousands of golfers (and non-golfers) achieve their dream of being happier and more confident by revealing how to surround themselves with a team of good people and embrace how the game of golf can improve relationships. \n  \nWhats the Goal?: \nWe are working up to our yearly 9 Hole Golf Challenge that will take place on Sunday\, August 24\, 2025 at Braemar Golf Course. This fun fill weekend will include a S.I.P event\, Friday Night Yacht Excursion\, the Gathering on the Green the post Challenge social and day party![/vc_column_text][vc_single_image image=”21333″ img_size=”full” alignment=”center” css=””][vc_empty_space][/vc_column][/vc_row]
URL:https://playfessionals.com/network-event/friday-june-20-session-4-new-hope-pf-pure-drive-group-golf-lessons-season-3/
LOCATION:New Hope Village Golf Course\, 8130 Bass Lake Rd\, New Hope\, MN\, 55428\, United States
CATEGORIES:Country Club,Pure Drive Group Golf Lessons
ATTACH;FMTTYPE=image/jpeg:https://playfessionals.com/wp-content/uploads/2025/05/0620-PF-Pure-Drive-Season-3-Story-.jpg
ORGANIZER;CN="Playfessionals":MAILTO:concierge@playfessionals.com
END:VEVENT
BEGIN:VEVENT
DTSTART;TZID=America/Chicago:20250627T183000
DTEND;TZID=America/Chicago:20250627T200000
DTSTAMP:20260424T071754
CREATED:20250528T215858Z
LAST-MODIFIED:20250619T162544Z
UID:22560-1751049000-1751054400@playfessionals.com
SUMMARY:Friday June 27 -  Session 5 (New Hope) - PF Pure Drive Group Golf Lessons - Season 3
DESCRIPTION:[vc_row row_background_lines=”none”][vc_column][vc_column_text css=””] \n\nOn Course Lessons\nFor this session\, we venture to New Hope for an on course lesson on golf etiquette and play! \n PureDrive:On & Off the Course.\n\nPlayfessionals Pure Drive is a session of group golf lessons designed for Beginners\, novice and advanced players to learn the game from golf professionals and prepare you for your next corporate golf outing or round with friends. We know business also happens on the Golf Course but why not have some fun! \nSpace is limited. Bring your own clubs or the Golf Professional will have Clubs for you as well! \n\nDESIGNED FOR BEGINNERS\,NOVICE AND ADVANCED PLAYERS TO LEARN THE GAME FROM GOLF PROFESSIONALS AND PREPARE YOU FOR YOUR NEXT GOLF OUTING.\n\n[/vc_column_text][vc_single_image image=”14643″ img_size=”full” alignment=”center” css=””][vc_empty_space][vc_masonry_media_grid css=”” grid_id=”vc_gid:1750350324550-22a5bb46-c44a-1″ include=”14640\,14641\,14639\,14638\,14627\,14628\,14614\,14612\,14610\,14601\,14599\,14603\,14613\,14594″][vc_empty_space][vc_single_image image=”14612″ img_size=”full” alignment=”center” css=””][vc_column_text css=””]ABOUT THE GOLF PRO:\nBryan Skavnak \nBryan Skavnak is the happiest golf professional in Minnesota.  Through his heartfelt and sometimes goofy stories\, Bryan blends humor and inspiration to teach you about golf and life.  He is the author of the #1 Best Selling book\, Happy Golf Starts Here.  He is the founder of the Bryan Skavnak Golf Academy\, which for nearly 20 years has taught kids and adults how to have more fun and confidence by showing them that score doesn’t matter\, people do. \nAs an inspiring speaker and writer\, Bryan has helped thousands of golfers (and non-golfers) achieve their dream of being happier and more confident by revealing how to surround themselves with a team of good people and embrace how the game of golf can improve relationships. \n  \nWhats the Goal?: \nWe are working up to our yearly 9 Hole Golf Challenge that will take place on Sunday\, August 24\, 2025 at Braemar Golf Course. This fun fill weekend will include a S.I.P event\, Friday Night Yacht Excursion\, the Gathering on the Green the post Challenge social and day party![/vc_column_text][vc_empty_space][/vc_column][/vc_row]
URL:https://playfessionals.com/network-event/friday-june-27-session-5-new-hope-pf-pure-drive-group-golf-lessons-season-3/
LOCATION:New Hope Village Golf Course\, 8130 Bass Lake Rd\, New Hope\, MN\, 55428\, United States
CATEGORIES:Country Club,Pure Drive Group Golf Lessons
ATTACH;FMTTYPE=image/jpeg:https://playfessionals.com/wp-content/uploads/2025/05/0627-PF-Pure-Drive-Season-3-Story-.jpg
ORGANIZER;CN="Playfessionals":MAILTO:concierge@playfessionals.com
END:VEVENT
BEGIN:VEVENT
DTSTART;TZID=America/Chicago:20250629T140000
DTEND;TZID=America/Chicago:20250629T180000
DTSTAMP:20260424T071754
CREATED:20250611T021125Z
LAST-MODIFIED:20250627T155844Z
UID:22907-1751205600-1751220000@playfessionals.com
SUMMARY:Play Haus : P.T.O. Patio Take Over
DESCRIPTION:[vc_row full_width=”stretch_row” row_background_lines=”none”][vc_column][vc_column_text css=””] \nIt’s giving ditch day energy and you deserve it!\nHerHaus and Playfessionals are teaming up for a summer kickoff like no other. We’re taking over the patio at North Loop Green for an elevated happy hour experience where vibes are high and responsibilities are low. \nWhether you’re cashing in PTO or just dipping out early\, come pull up for: \n\nA welcome drink + appetizers (while supplies last)\nFull bar + food available for purchase\nDJ Shu & DJ Ones bringing all the feel-good summer energy\nGood people\, great vibes\, and a little networking… no small talk\n\n  \nThis is your official invitation to take a break\, clock out early\, take up space\, and enjoy the sunshine with a community of professionals who know how to work and play. \nSpots are limited\, so grab your crew and secure your ticket. \nThis is your sign to turn your out-of-office on! \n#PatioTakeOver #PTOwithUs #HerHausxPlayfessionals[/vc_column_text][/vc_column][/vc_row][vc_row gap=”20″ row_background_lines=”none”][vc_column][vc_video link=”https://www.youtube.com/watch?v=JGLsvdGHnug” align=”center” css_animation=”fadeIn” css=””][/vc_column][/vc_row][vc_row gap=”20″ row_background_lines=”none”][vc_column][vc_single_image image=”22327″ img_size=”full” css=””][/vc_column][/vc_row][vc_row gap=”20″ row_background_lines=”none”][vc_column width=”1/2″][vc_single_image image=”22332″ img_size=”full” css=””][/vc_column][vc_column width=”1/2″][vc_single_image image=”22334″ img_size=”full” css=””][/vc_column][/vc_row][vc_row gap=”20″ row_background_lines=”none”][vc_column width=”1/2″][vc_single_image image=”22336″ img_size=”full” css=””][/vc_column][vc_column width=”1/2″][vc_single_image image=”22351″ img_size=”full” css=””][/vc_column][/vc_row][vc_row gap=”20″ row_background_lines=”none”][vc_column][vc_single_image image=”22347″ img_size=”full” css=””][/vc_column][/vc_row][vc_row gap=”20″ row_background_lines=”none”][vc_column width=”1/2″][vc_single_image image=”22348″ img_size=”full” css=””][/vc_column][vc_column width=”1/2″][vc_single_image image=”22346″ img_size=”full” css=””][/vc_column][/vc_row][vc_row gap=”20″ row_background_lines=”none”][vc_column width=”1/2″][vc_single_image image=”22326″ img_size=”full” css=””][/vc_column][vc_column width=”1/2″][vc_single_image image=”22349″ img_size=”full” css=””][/vc_column][/vc_row][vc_row gap=”20″ row_background_lines=”none”][vc_column][vc_single_image image=”22353″ img_size=”full” css=””][/vc_column][/vc_row][vc_row row_background_lines=”none”][vc_column width=”1/2″][vc_empty_space][vc_custom_heading text=”Presented by” font_container=”tag:h2|text_align:left|color:%23000000″ use_theme_fonts=”yes” css_animation=”fadeIn” css=””][/vc_column][vc_column width=”1/2″][/vc_column][/vc_row][vc_row content_placement=”middle” row_background_lines=”none”][vc_column width=”1/3″][vc_single_image image=”22357″ img_size=”full” alignment=”center” onclick=”custom_link” img_link_target=”_blank” css=”” link=”https://www.welcomeherhaus.com”][/vc_column][vc_column width=”1/3″][vc_single_image image=”25″ img_size=”full” css=””][/vc_column][vc_column width=”1/3″][/vc_column][/vc_row][vc_row row_background_lines=”none”][vc_column][vc_column_text css=””]About HerHaus \n\nHerHaus is redefining what it means to create spaces for Black women. It offers a haven where women can escape the demands of everyday life and immerse themselves in genuine connections.  \nThrough thoughtfully curated experiences\, HerHaus encourages Black women to embrace their individuality\, foster deep\, meaningful relationships\, and engage in open\, empowering conversations. It’s more than just a space—HerHaus is a celebration of identity\, resilience\, and community\, providing the comfort and confidence to be unapologetically oneself.[/vc_column_text][/vc_column][/vc_row][vc_row row_background_lines=”none”][vc_column width=”1/2″][vc_empty_space][vc_custom_heading text=”Sponsored by” font_container=”tag:h2|text_align:left|color:%23000000″ use_theme_fonts=”yes” css_animation=”fadeIn” css=””][/vc_column][vc_column width=”1/2″][/vc_column][/vc_row][vc_row row_background_lines=”none”][vc_column width=”1/4″][/vc_column][vc_column width=”1/4″][/vc_column][vc_column width=”1/4″][/vc_column][vc_column width=”1/4″][/vc_column][/vc_row]
URL:https://playfessionals.com/network-event/play-haus-p-t-o-patio-take-over-2/
LOCATION:North Loop Green\, 350 North 5th Street\, Minneapolis\, MN\, 55401\, United States
CATEGORIES:Playfessionals,PlayHaus
ATTACH;FMTTYPE=image/jpeg:https://playfessionals.com/wp-content/uploads/2025/06/New-Play-Haus-Flyer-Story-B.jpg
END:VEVENT
END:VCALENDAR