BEGIN:VCALENDAR
VERSION:2.0
PRODID:-//Playfessionals - ECPv6.15.20//NONSGML v1.0//EN
CALSCALE:GREGORIAN
METHOD:PUBLISH
X-WR-CALNAME:Playfessionals
X-ORIGINAL-URL:https://playfessionals.com
X-WR-CALDESC:Events for Playfessionals
REFRESH-INTERVAL;VALUE=DURATION:PT1H
X-Robots-Tag:noindex
X-PUBLISHED-TTL:PT1H
BEGIN:VTIMEZONE
TZID:America/Chicago
BEGIN:DAYLIGHT
TZOFFSETFROM:-0600
TZOFFSETTO:-0500
TZNAME:CDT
DTSTART:20240310T080000
END:DAYLIGHT
BEGIN:STANDARD
TZOFFSETFROM:-0500
TZOFFSETTO:-0600
TZNAME:CST
DTSTART:20241103T070000
END:STANDARD
BEGIN:DAYLIGHT
TZOFFSETFROM:-0600
TZOFFSETTO:-0500
TZNAME:CDT
DTSTART:20250309T080000
END:DAYLIGHT
BEGIN:STANDARD
TZOFFSETFROM:-0500
TZOFFSETTO:-0600
TZNAME:CST
DTSTART:20251102T070000
END:STANDARD
BEGIN:DAYLIGHT
TZOFFSETFROM:-0600
TZOFFSETTO:-0500
TZNAME:CDT
DTSTART:20260308T080000
END:DAYLIGHT
BEGIN:STANDARD
TZOFFSETFROM:-0500
TZOFFSETTO:-0600
TZNAME:CST
DTSTART:20261101T070000
END:STANDARD
END:VTIMEZONE
BEGIN:VEVENT
DTSTART;TZID=America/Chicago:20250820T180000
DTEND;TZID=America/Chicago:20250820T210000
DTSTAMP:20260424T084916
CREATED:20250616T230054Z
LAST-MODIFIED:20250814T022424Z
UID:24540-1755712800-1755723600@playfessionals.com
SUMMARY:S.I.P. the Country Club Edition -  Roof Top\, Lake Views\, & Cocktails
DESCRIPTION:[vc_row content_placement=”middle” row_background_lines=”none”][vc_column offset=”vc_col-lg-offset-0″][vc_row_inner][vc_column_inner][vc_single_image image=”14911″ img_size=”medium” alignment=”center” css_animation=”fadeIn” css=””][/vc_column_inner][/vc_row_inner][/vc_column][/vc_row][vc_row content_placement=”middle” row_background_lines=”none”][vc_column offset=”vc_col-xs-12″][vc_empty_space][vc_single_image image=”25037″ img_size=”full” alignment=”center” css=””][vc_empty_space][/vc_column][/vc_row][vc_row row_background_lines=”none”][vc_column][vc_masonry_media_grid css=”” grid_id=”vc_gid:1755137075468-4e37b00f-909b-1″ include=”20393\,15791\,15794″][vc_empty_space][vc_single_image image=”25038″ img_size=”full” alignment=”center” css=””][/vc_column][/vc_row][vc_row row_background_lines=”none”][vc_column][vc_column_text css_animation=”fadeIn” css=””] \nOfficial Country Club Weekend Networking Launch Event \n\nWe know it’s Sudden\, maybe even Impulsive but it’s time to Play again!\n  \nJoin other Playfessionals for this exclusive Country Club Edition of S.I.P. .  Come get comfortable and cozy with some summer vibes as we revisit another hidden gem with beautiful professionals. \nWe are featuring a cocktail connoisseurs array of drinks\, at an unbelievable location with an atmosphere you deserve. \nInstagram-worthy networking with no filters\, just natural connections and a great time! \nThis is your opportunity to catch up with some good company or refresh your network as DJ Willie Shu returns and gets you reacquainted with the sounds of the season. Light Appetizers served while supplies last.  \nThis event is Complimentary for Playfessionals Country Club Social Weekend Pass Holders and Golf Weekend Pass Holders. \nThe vibe and attire is Country Club chic. \nCome to SIP with us! \nYou’ve been summoned. Enjoy![/vc_column_text][vc_empty_space height=”15px”][vc_single_image image=”25040″ img_size=”full” alignment=”center” css=””][vc_empty_space][vc_masonry_media_grid css=”” grid_id=”vc_gid:1755137075476-1de9c72d-379b-9″ include=”17063\,20453\,20388″][/vc_column][/vc_row][vc_row content_placement=”middle” row_background_lines=”none”][vc_column offset=”vc_col-xs-12″][vc_empty_space][vc_single_image image=”25036″ img_size=”full” alignment=”center” css=””][vc_empty_space][vc_single_image image=”25041″ img_size=”full” alignment=”center” css=””][vc_empty_space][/vc_column][/vc_row][vc_row content_placement=”middle” row_background_lines=”none”][vc_column width=”1/2″ offset=”vc_col-xs-12″][vc_single_image image=”25035″ img_size=”full” alignment=”center” css=””][vc_empty_space][/vc_column][vc_column width=”1/2″ offset=”vc_col-xs-12″][vc_single_image image=”25034″ img_size=”full” alignment=”center” css=””][vc_empty_space][/vc_column][/vc_row][vc_row content_placement=”middle” row_background_lines=”none”][vc_column offset=”vc_col-xs-12″][vc_empty_space][vc_single_image image=”25043″ img_size=”full” alignment=”center” css=””][vc_empty_space][/vc_column][/vc_row][vc_row row_background_lines=”none”][vc_column][vc_custom_heading text=”Appetizer & Beverage Sponsor” font_container=”tag:h5|text_align:left” use_theme_fonts=”yes” css=””][/vc_column][/vc_row][vc_row content_placement=”middle” row_background_lines=”none”][vc_column width=”1/5″ offset=”vc_col-xs-12″][/vc_column][vc_column width=”1/5″ offset=”vc_col-xs-12″][/vc_column][vc_column width=”1/5″ offset=”vc_col-xs-12″][/vc_column][vc_column width=”1/5″ offset=”vc_col-xs-12″][/vc_column][vc_column width=”1/5″ offset=”vc_col-xs-12″][/vc_column][/vc_row][vc_row content_placement=”middle” disable_element=”yes” row_background_lines=”none”][vc_column width=”1/5″ offset=”vc_col-xs-12″][vc_single_image image=”14920″ img_size=”full” alignment=”center” onclick=”custom_link” img_link_target=”_blank” css_animation=”fadeIn” css=”” link=”https://cordaviibrands.com”][vc_single_image image=”14917″ img_size=”full” alignment=”center” onclick=”custom_link” img_link_target=”_blank” css_animation=”fadeIn” css=”” link=”https://www.instagram.com/raisingthepar/”][/vc_column][vc_column width=”1/5″ offset=”vc_col-xs-12″][vc_single_image image=”14920″ img_size=”full” alignment=”center” onclick=”custom_link” img_link_target=”_blank” css_animation=”fadeIn” css=”” link=”https://cordaviibrands.com”][/vc_column][vc_column width=”1/5″ offset=”vc_col-xs-12″][vc_single_image image=”15006″ img_size=”full” alignment=”center” onclick=”custom_link” img_link_target=”_blank” css_animation=”fadeIn” css=”” link=”http://www.fairwayfoundation.org”][/vc_column][vc_column width=”1/5″ offset=”vc_col-xs-12″][vc_single_image image=”15303″ img_size=”full” alignment=”center” onclick=”custom_link” img_link_target=”_blank” css_animation=”fadeIn” css=”” link=”https://www.booktoasttours.com”][/vc_column][vc_column width=”1/5″ offset=”vc_col-xs-12″][vc_single_image image=”15024″ img_size=”full” alignment=”center” onclick=”custom_link” img_link_target=”_blank” css_animation=”fadeIn” css=”” link=”https://www.thehappiestgolfer.com”][/vc_column][/vc_row][vc_row content_placement=”middle” disable_element=”yes” row_background_lines=”none”][vc_column width=”1/5″ offset=”vc_col-xs-12″][vc_single_image image=”15745″ img_size=”full” alignment=”center” onclick=”custom_link” img_link_target=”_blank” css_animation=”fadeIn” css=”” link=”https://coachmckenzie.com”][/vc_column][vc_column width=”1/5″ offset=”vc_col-xs-12″][vc_single_image image=”15746″ img_size=”full” alignment=”center” onclick=”custom_link” img_link_target=”_blank” css_animation=”fadeIn” css=”” link=”https://lovejoysbrand.com/”][/vc_column][vc_column width=”1/5″ offset=”vc_col-xs-12″][vc_single_image image=”15747″ img_size=”full” alignment=”center” onclick=”custom_link” img_link_target=”_blank” css_animation=”fadeIn” css=”” link=”https://coachmckenzie.com/”][/vc_column][vc_column width=”1/5″ offset=”vc_col-xs-12″][vc_single_image image=”15748″ img_size=”full” alignment=”center” onclick=”custom_link” img_link_target=”_blank” css_animation=”fadeIn” css=”” link=”https://www.b-suite.co”][/vc_column][vc_column width=”1/5″ offset=”vc_col-xs-12″][vc_single_image image=”15749″ img_size=”full” alignment=”center” onclick=”custom_link” img_link_target=”_blank” css_animation=”fadeIn” css=”” link=”https://dunordsocialspirits.com”][/vc_column][/vc_row]
URL:https://playfessionals.com/network-event/s-i-p-country-club-edition-9th-hole/
LOCATION:6 Smith Private Roof Top\, 294 Grove Lane East\, Wayzata\, MN\, 55391\, United States
CATEGORIES:Country Club,Country Club Weekend,Sudden Impulsive Play
ATTACH;FMTTYPE=image/jpeg:https://playfessionals.com/wp-content/uploads/2025/06/SIP-w-shu-Country-Club-Weekend-Flyer-2-1.jpg
ORGANIZER;CN="Playfessionals":MAILTO:concierge@playfessionals.com
END:VEVENT
BEGIN:VEVENT
DTSTART;TZID=America/Chicago:20250822T183000
DTEND;TZID=America/Chicago:20250822T213000
DTSTAMP:20260424T084916
CREATED:20250716T102006Z
LAST-MODIFIED:20250822T152323Z
UID:24494-1755887400-1755898200@playfessionals.com
SUMMARY:Playfessionals Yacht Life 2025: Excursion on the Tonka
DESCRIPTION:[vc_row content_placement=”middle” row_background_lines=”none”][vc_column offset=”vc_col-lg-offset-0″][vc_row_inner][vc_column_inner][vc_single_image image=”14911″ img_size=”medium” alignment=”center” css_animation=”fadeIn” css=””][/vc_column_inner][/vc_row_inner][/vc_column][/vc_row][vc_row content_placement=”middle” row_background_lines=”none”][vc_column offset=”vc_col-lg-offset-0″][vc_custom_heading text=”“.. NOT your normal Country Club Weekend!”” font_container=”tag:h1|text_align:center” use_theme_fonts=”yes” css=””][vc_column_text css_animation=”fadeIn” css=””] \n\n\n\nGet ready to cruise into golden hour with Yacht Life: Excursion on the Tonka where Neutrals & Creams will light the night sky\, happening Friday\, August 22\, 2025\, from 6:30 PM to 9:00 PM aboard Paradise Charters on Lake Minnetonka.  \nThis exclusive evening is your chance to network effortlessly while taking in the beauty and energy of one of Minnesota’s most iconic lakes. Enjoy complimentary light appetizers (while supplies last)\, a full cash bar\, and curated summer sounds by DJ Willie Shu\, setting the perfect tone as we sail through stunning shoreline views and vibrant conversations. \nWhether you’re connecting with new faces\, catching up with familiar ones\, or simply soaking in the luxury of the water\, this event is all about smooth vibes and meaningful moments. From curated music to elevated company\, we’re offering a glimpse of Lake Minnetonka the Playfessionals way. Requested attire is Neutrals and Creams.  \nTickets are limited and available now at Playfessionals.com—don’t miss your chance to mix\, mingle\, and experience all that the Tonka has to offer. \n\n\n\n[/vc_column_text][vc_empty_space][/vc_column][/vc_row][vc_row disable_element=”yes” row_background_lines=”none”][vc_column width=”1/2″][vc_empty_space][vc_custom_heading text=”Sponsored By” use_theme_fonts=”yes” css=””][/vc_column][vc_column width=”1/2″][/vc_column][/vc_row][vc_row content_placement=”middle” disable_element=”yes” row_background_lines=”none”][vc_column css_animation=”fadeIn” width=”1/3″ offset=”vc_col-lg-offset-0 vc_col-xs-12″][vc_single_image image=”14877″ img_size=”large” alignment=”center” onclick=”custom_link” img_link_target=”_blank” css_animation=”fadeIn” css=”” link=”https://www.toro.com/en/”][vc_custom_heading text=”Silver Sponsorship” font_container=”tag:h5|text_align:left” use_theme_fonts=”yes” css=””][/vc_column][vc_column width=”1/3″ offset=”vc_col-xs-4/5″][/vc_column][vc_column width=”1/3″ offset=”vc_col-xs-4/5″][/vc_column][/vc_row][vc_row row_background_lines=”none”][vc_column][vc_single_image image=”24689″ img_size=”full” alignment=”center” css=””][vc_empty_space][vc_single_image image=”24678″ img_size=”full” alignment=”center” css=””][vc_empty_space][vc_row_inner][vc_column_inner width=”1/2″][vc_single_image image=”24685″ img_size=”full” alignment=”center” css=””][/vc_column_inner][vc_column_inner width=”1/2″][vc_single_image image=”24686″ img_size=”full” alignment=”center” css=””][/vc_column_inner][/vc_row_inner][vc_empty_space][vc_single_image image=”24687″ img_size=”full” alignment=”center” css=””][vc_empty_space][/vc_column][/vc_row][vc_row full_width=”stretch_row_content_no_spaces” parallax=”content-moving-fade” parallax_image=”24691″ parallax_speed_bg=”2.5″ row_background_lines=”none”][vc_column][vc_empty_space height=”100px”][vc_empty_space height=”100px”][vc_empty_space height=”100px”][vc_empty_space height=”100px”][/vc_column][/vc_row]
URL:https://playfessionals.com/network-event/playfessionals-yacht-life-2025/
LOCATION:Paradise Cruises\, 2 Water Street\, Excelsior\, MN\, 55331\, United States
CATEGORIES:Country Club,Country Club Weekend,Yacht Life
ATTACH;FMTTYPE=image/jpeg:https://playfessionals.com/wp-content/uploads/2025/07/YachtCountry-Club-Weekend-Flyer-2.jpg
ORGANIZER;CN="Playfessionals":MAILTO:concierge@playfessionals.com
END:VEVENT
END:VCALENDAR