BEGIN:VCALENDAR
VERSION:2.0
PRODID:-//Playfessionals - ECPv6.15.20//NONSGML v1.0//EN
CALSCALE:GREGORIAN
METHOD:PUBLISH
X-ORIGINAL-URL:https://playfessionals.com
X-WR-CALDESC:Events for Playfessionals
REFRESH-INTERVAL;VALUE=DURATION:PT1H
X-Robots-Tag:noindex
X-PUBLISHED-TTL:PT1H
BEGIN:VTIMEZONE
TZID:America/Chicago
BEGIN:DAYLIGHT
TZOFFSETFROM:-0600
TZOFFSETTO:-0500
TZNAME:CDT
DTSTART:20240310T080000
END:DAYLIGHT
BEGIN:STANDARD
TZOFFSETFROM:-0500
TZOFFSETTO:-0600
TZNAME:CST
DTSTART:20241103T070000
END:STANDARD
BEGIN:DAYLIGHT
TZOFFSETFROM:-0600
TZOFFSETTO:-0500
TZNAME:CDT
DTSTART:20250309T080000
END:DAYLIGHT
BEGIN:STANDARD
TZOFFSETFROM:-0500
TZOFFSETTO:-0600
TZNAME:CST
DTSTART:20251102T070000
END:STANDARD
BEGIN:DAYLIGHT
TZOFFSETFROM:-0600
TZOFFSETTO:-0500
TZNAME:CDT
DTSTART:20260308T080000
END:DAYLIGHT
BEGIN:STANDARD
TZOFFSETFROM:-0500
TZOFFSETTO:-0600
TZNAME:CST
DTSTART:20261101T070000
END:STANDARD
END:VTIMEZONE
BEGIN:VEVENT
DTSTART;TZID=America/Chicago:20250202T143000
DTEND;TZID=America/Chicago:20250202T180000
DTSTAMP:20260424T192950
CREATED:20250118T001428Z
LAST-MODIFIED:20250131T014600Z
UID:18967-1738506600-1738519200@playfessionals.com
SUMMARY:Playfessionals presents: Book Club & Vibes Session #1
DESCRIPTION:[vc_row row_background_lines=”none”][vc_column][vc_column_text css=””] \nJoin us for an evening where books meet good vibes and professionals unwind.\nWhether you love books or are just here for the chill energy\, it’s all about connecting\, laughing\, and diving into a new read. \nExpect: Inspiring book discussions (First Book: The 5am Club) \nChill beats & good company \nDrinks & snacks to fuel the convo\nAnd of course\, a space to vibe and share ideas! \nWe’re all about mixing the art of play with professional life. Don’t miss out![/vc_column_text][vc_empty_space][/vc_column][/vc_row][vc_row row_background_lines=”none”][vc_column width=”1/2″][vc_single_image image=”19027″ img_size=”FULL” css=””][/vc_column][vc_column width=”1/2″][vc_single_image image=”19029″ img_size=”FULL” css=””][/vc_column][/vc_row][vc_row row_background_lines=”none”][vc_column][vc_empty_space][vc_column_text css=””] \nCurrent Read: The 5 am Club\nAuthor: Robin Sharma\nPreface: Sunday 2/02/2025\nGrab your book now and meet us for our introductory meeting at TAP IN Kitchen & Cocktails. \n\nCollect your complimentary custom Playfessionals Book Mark When show your paper or e-book. \nEnjoy networking and listening to the vibes provided by DJ Willie Shu.\n  \nEvent Schedule\nBook Club: 2:30pm \nVibes: 4:00pm\n  \nThe Playfessionals Book Club & Vibes for Professionals is more than just a reading group; it is a community of individuals who are committed to lifelong learning and personal growth. By joining our Book Club\, you will have the opportunity to expand your horizons\, connect with like-minded professionals\, and invest in your personal and professional development.[/vc_column_text][/vc_column][/vc_row][vc_row row_background_lines=”none”][vc_column][vc_empty_space][vc_single_image image=”19070″ img_size=”full” css=””][/vc_column][/vc_row]
URL:https://playfessionals.com/network-event/playfessionals-presents-book-club-vibes-session-1/
LOCATION:TAP IN Kitchen & Cocktails\, 2618 Lowry Ave North\, Minneapolis\, MN\, 55411\, United States
CATEGORIES:Book Club,Playfessionals
ATTACH;FMTTYPE=image/jpeg:https://playfessionals.com/wp-content/uploads/2025/01/BLK-2024-Book-Club-Playfessionals-Instagram-scaled.jpg
ORGANIZER;CN="Playfessionals":MAILTO:concierge@playfessionals.com
END:VEVENT
END:VCALENDAR