BEGIN:VCALENDAR
VERSION:2.0
PRODID:-//Playfessionals - ECPv6.15.20//NONSGML v1.0//EN
CALSCALE:GREGORIAN
METHOD:PUBLISH
X-ORIGINAL-URL:https://playfessionals.com
X-WR-CALDESC:Events for Playfessionals
REFRESH-INTERVAL;VALUE=DURATION:PT1H
X-Robots-Tag:noindex
X-PUBLISHED-TTL:PT1H
BEGIN:VTIMEZONE
TZID:UTC
BEGIN:STANDARD
TZOFFSETFROM:+0000
TZOFFSETTO:+0000
TZNAME:UTC
DTSTART:20240101T000000
END:STANDARD
END:VTIMEZONE
BEGIN:VEVENT
DTSTART;TZID=UTC:20250315T110000
DTEND;TZID=UTC:20250315T160000
DTSTAMP:20260424T161503
CREATED:20250306T040427Z
LAST-MODIFIED:20250315T191849Z
UID:19878-1742036400-1742054400@playfessionals.com
SUMMARY:Playfessionals presents VUE at Chilango - Brunch Con Vistas
DESCRIPTION:[vc_row row_background_lines=”none”][vc_column][vc_single_image image=”19888″ img_size=”full” css=””][vc_single_image image=”19936″ img_size=”full” alignment=”center” css=””][vc_column_text css_animation=”fadeIn” css=””]Enhance your Saturday with VUE\, a premier networking brunch set against breathtaking lakefront views. Join Twin Cities professionals\, tastemakers\, and socialites for an afternoon of dynamic connections\, curated flavors\, and the vibrant sounds of DJ Shu spinning the perfect mix. \nHosted at Chilango\, the city’s latest Mex-Tex culinary gem\, indulge in a bold selection of flavors that transport your taste buds south of the border.  \nYour brunch experience is just beginning….. \nEnjoy mimosas or signature cocktails crafted to keep the vibe flowing. \nDress business Casual or Saturday chic\, arrive early\, and step into an experience where professional ambition meets elevated leisure. Saturday\, March 15\, 2025 | 11 AM – 4 PM | Chilango – across from Lake Bde Maka Ska.[/vc_column_text][vc_row_inner equal_height=”yes” content_placement=”middle”][vc_column_inner width=”1/2″][vc_single_image image=”20117″ img_size=”full” alignment=”center” css=””][vc_empty_space][vc_single_image image=”20116″ img_size=”full” alignment=”center” css=””][/vc_column_inner][vc_column_inner width=”1/2″][vc_column_text css=””] \nhttps://playfessionals.com/wp-content/uploads/2025/03/copy_9485F2B3-4B67-4656-8517-B8D54ABD5FDE_1.mp4\n[/vc_column_text][/vc_column_inner][/vc_row_inner][vc_row_inner equal_height=”yes” content_placement=”middle”][vc_column_inner width=”1/2″][vc_single_image image=”20114″ img_size=”full” alignment=”center” css=””][vc_empty_space][vc_single_image image=”20111″ img_size=”full” alignment=”center” css=””][/vc_column_inner][vc_column_inner width=”1/2″][vc_single_image image=”20113″ img_size=”full” alignment=”center” css=””][vc_empty_space][vc_single_image image=”20112″ img_size=”full” alignment=”center” css=””][/vc_column_inner][/vc_row_inner][vc_empty_space][vc_single_image image=”19935″ img_size=”full” alignment=”center” css=””][vc_empty_space][vc_custom_heading text=”EVENT DETAILS” font_container=”tag:h3|text_align:left” use_theme_fonts=”yes”][vc_column_text css=””]This 21+ networking brunch will be between 11 am – 4 pm \n 11:00am Early Arrival Recommended \n *Table reservations available for parties of 5 or more for additional fee while available at link below or contact tables@playfessionals.com for more information* \n[/vc_column_text][vc_btn title=”Purchase Tables” style=”classic” shape=”round” color=”black” align=”center” css_animation=”fadeIn” css=”” button_block=”true” link=”url:https%3A%2F%2Fplayfessionals.com%2Fnetwork-event%2Ftable-reservations-playfessionals-brunch-with-a-vue-1-brunch-con-vistas%2F”][vc_empty_space][vc_single_image image=”19937″ img_size=”full” alignment=”center” css=””][vc_empty_space][vc_custom_heading text=”BRUNCH BUFFET SOLD SEPARATELY AT VENUE” font_container=”tag:h3|text_align:left” use_theme_fonts=”yes”][vc_column_text css=””]Brunch Buffet  \nThe optional Chilango Brunch Buffet is available at the door of the venue for $36+Tax and includes 2 complimentary mimosas ($30 Brunch Buffet+ $6 Gratuity+Tax) \n  \n[/vc_column_text][vc_custom_heading text=”REFUND POLICY” font_container=”tag:h3|text_align:left” use_theme_fonts=”yes”][vc_column_text]Unfortunately NO REFUNDS or RAINCHECKS (unless event is cancelled) will be issued on entrance tickets to event.[/vc_column_text][vc_single_image image=”20106″ img_size=”large” alignment=”center” css=””][vc_single_image image=”20107″ img_size=”large” alignment=”center” css=””][vc_row_inner][vc_column_inner width=”1/2″][/vc_column_inner][vc_column_inner width=”1/2″][vc_empty_space][/vc_column_inner][/vc_row_inner][/vc_column][/vc_row]
URL:https://playfessionals.com/network-event/playfessionals-brunch-with-a-vue-volume-1-brunch-con-vistas/
LOCATION:Mr. Paul’s Supper Club\, 3917 Market St\,\, Edina\, MN\, 55424\, United States
CATEGORIES:Brunch with a Vue,Playfessionals
ATTACH;FMTTYPE=image/jpeg:https://playfessionals.com/wp-content/uploads/2025/03/A-Vue-3_15-Story.jpg
ORGANIZER;CN="Playfessionals":MAILTO:concierge@playfessionals.com
END:VEVENT
BEGIN:VEVENT
DTSTART;TZID=UTC:20250315T110000
DTEND;TZID=UTC:20250315T160000
DTSTAMP:20260424T161503
CREATED:20250306T045223Z
LAST-MODIFIED:20250312T141159Z
UID:19846-1742036400-1742054400@playfessionals.com
SUMMARY:TABLE RESERVATIONS:  Playfessionals presents VUE at Chilango - Brunch Con Vistas
DESCRIPTION:[vc_row gap=”15″ row_background_lines=”none”][vc_column][vc_single_image image=”19888″ img_size=”full” css=””][vc_custom_heading text=”EVENT DETAILS” font_container=”tag:h3|text_align:left” use_theme_fonts=”yes”][vc_single_image image=”19896″ img_size=”full” css=””][vc_column_text css=””] \nALL TABLES ARE FIRST COME FIRST SERVE FOR PURCHASE\nThis 21+ networking brunch will be between 11 am – 4 pm.\nEarly Arrival Recommended if intending to eat Brunch for seating purposes.\n *Table reservations available for parties of 5 or more for additional fee while available\, contact tables@playfessionals.com with any questions* \n[/vc_column_text][vc_empty_space][vc_custom_heading text=”BRUNCH BUFFET SOLD SEPERATELY AT VENUE” font_container=”tag:h3|text_align:left” use_theme_fonts=”yes”][vc_column_text css=””]Brunch Buffet  \nThe optional Chilango Brunch Buffet is available at the door of the venue for $36+Tax ($30 Brunch + $6 Gratuity) + Tax[/vc_column_text][vc_custom_heading text=”REFUND POLICY” font_container=”tag:h3|text_align:left” use_theme_fonts=”yes”][vc_column_text]Unfortunately NO REFUNDS or RAINCHECKS (unless event is cancelled) will be issued on entrance tickets to event.[/vc_column_text][/vc_column][/vc_row][vc_row gap=”30″ content_placement=”middle” css_animation=”fadeIn” row_background_lines=”none” css=”.vc_custom_1717955643046{background-color: #c9c9c9 !important;background-position: center !important;background-repeat: no-repeat !important;background-size: cover !important;}”][vc_column css=”.vc_custom_1717955632028{margin-top: 30px !important;margin-right: 30px !important;margin-bottom: 30px !important;margin-left: 30px !important;border-top-width: 1px !important;border-right-width: 1px !important;border-bottom-width: 1px !important;border-left-width: 1px !important;padding-top: 30px !important;padding-right: 30px !important;padding-bottom: 30px !important;padding-left: 30px !important;background-color: #c9c9c9 !important;border-left-color: #ffffff !important;border-left-style: solid !important;border-right-color: #ffffff !important;border-right-style: solid !important;border-top-color: #ffffff !important;border-top-style: solid !important;border-bottom-color: #ffffff !important;border-bottom-style: solid !important;border-radius: 2px !important;}”][vc_custom_heading text=”TABLE RESERVATIONS PROCESS & POLICY” font_container=”tag:h2|text_align:center” use_theme_fonts=”yes” css=””][vc_column_text css_animation=”fadeIn” css=””] \n\nThese OPTIONAL table reservations come at an additional cost\, offer a reserved seated space for up to 2 hours and 30 minutes. \nWe offer two table reservations\, seatings from 11:00 am – 1:45 pm and 2:00 pm – 4:00 pm. \nKEY NOTES WHEN RESERVING A TABLE: \n\nTHE MAIN GUEST RESERVING THE TABLE IS RESPONSIBLE FOR ALL OF THEIR GUEST ADHERING TO THE BRUNCH AND VENUE RULES\, INCLUDING TIME OF ARRIVAL AND VACATING TABLE FOR NEXT GUEST.\nPlease show up within the first 30 minutes of your seating reservation (by 11:30am or by 2:30pm) and be prepared to leave 15 minutes before the next seating (1:45 & 3:45pm). This helps with a smooth transition and allows for the staff to bus tables for the next group. It also gives your guest ample time to enjoy the brunch\, and network.\nIf you have an 11:00 am reservation\, when 1:45 pm comes\, you can try and find seating by the bar or in the secondary dining room if it is available. No need to leave.\nIf your table package is coming with Complimentary Champagne\, please request it with the wait staff. Each reservation has a certain number of bottles complimentary\, which should be ordered when you sit at your table. These celebratory bottles of champagne DO NOT come with mixers\, orange juice or additional items.\nTo help your guest with smooth entry\, please include their names with your registration below.  You may also send emails if you’d like as well to tables@playfessionals.com. By doing this\, we can make sure their names are at the front door and the staff will know what table they will be connected to as well.\nPlease remind all your guests that the Brunch Package is a separate fee that can be purchased at the front door for $36+Tax ($30 Chilango Brunch Buffet + $6 Gratuity). While brunch does not need to be purchased to attend\, they can grab drinks from the bar as well.\nANY GUEST NOT INCLUDED IN YOUR TABLE NAMES WILL BE REQUIRED TO PURCHASE A TICKET AT THE DOOR WHILE SUPPLIES LAST.\n\n[/vc_column_text][/vc_column][/vc_row][vc_row full_width=”stretch_row” content_placement=”middle” css_animation=”fadeIn” row_background_lines=”none”][vc_column][vc_single_image image=”20124″ img_size=”full” alignment=”center” onclick=”link_image” css_animation=”fadeIn” css=””][vc_single_image image=”19884″ img_size=”full” alignment=”center” css=””][vc_empty_space][vc_single_image image=”19886″ img_size=”full” alignment=”center” css=””][/vc_column][/vc_row]
URL:https://playfessionals.com/network-event/table-reservations-playfessionals-brunch-with-a-vue-1-brunch-con-vistas/
LOCATION:Mr. Paul’s Supper Club\, 3917 Market St\,\, Edina\, MN\, 55424\, United States
CATEGORIES:Brunch with a Vue,Playfessionals
ATTACH;FMTTYPE=image/jpeg:https://playfessionals.com/wp-content/uploads/2025/03/Table-ResrrvationsVue-3_15-Square-1.jpg
ORGANIZER;CN="Playfessionals":MAILTO:concierge@playfessionals.com
END:VEVENT
END:VCALENDAR