BEGIN:VCALENDAR
VERSION:2.0
PRODID:-//Playfessionals - ECPv6.15.20//NONSGML v1.0//EN
CALSCALE:GREGORIAN
METHOD:PUBLISH
X-ORIGINAL-URL:https://playfessionals.com
X-WR-CALDESC:Events for Playfessionals
REFRESH-INTERVAL;VALUE=DURATION:PT1H
X-Robots-Tag:noindex
X-PUBLISHED-TTL:PT1H
BEGIN:VTIMEZONE
TZID:America/Chicago
BEGIN:DAYLIGHT
TZOFFSETFROM:-0600
TZOFFSETTO:-0500
TZNAME:CDT
DTSTART:20240310T080000
END:DAYLIGHT
BEGIN:STANDARD
TZOFFSETFROM:-0500
TZOFFSETTO:-0600
TZNAME:CST
DTSTART:20241103T070000
END:STANDARD
BEGIN:DAYLIGHT
TZOFFSETFROM:-0600
TZOFFSETTO:-0500
TZNAME:CDT
DTSTART:20250309T080000
END:DAYLIGHT
BEGIN:STANDARD
TZOFFSETFROM:-0500
TZOFFSETTO:-0600
TZNAME:CST
DTSTART:20251102T070000
END:STANDARD
BEGIN:DAYLIGHT
TZOFFSETFROM:-0600
TZOFFSETTO:-0500
TZNAME:CDT
DTSTART:20260308T080000
END:DAYLIGHT
BEGIN:STANDARD
TZOFFSETFROM:-0500
TZOFFSETTO:-0600
TZNAME:CST
DTSTART:20261101T070000
END:STANDARD
END:VTIMEZONE
BEGIN:VEVENT
DTSTART;TZID=America/Chicago:20250710T170000
DTEND;TZID=America/Chicago:20250710T200000
DTSTAMP:20260424T070935
CREATED:20250618T191713Z
LAST-MODIFIED:20250710T175336Z
UID:23000-1752166800-1752177600@playfessionals.com
SUMMARY:SOLD OUT: BLK Canvas: The Art of Black Futurism: An Afrofuturist Celebration with Playfessionals
DESCRIPTION:[vc_row row_background_lines=”none”][vc_column][vc_column_text css=””] \nPresented By: The Forum + Minneapolis Institute of Arts + Playfessionals\nSponsored by Mia\n \nLast Call: Kinfolk & Kosmos\nExperience: Final public tour of Giants: Art from the Dean Collection of Swizz Beatz and Alicia Keys\nWitness and celebrate the transformative power of  Giants: Art from the Dean Collection of Swizz Beatz and Alicia Keys. \nAs “Giants” prepares to depart Minneapolis\, The Forum\, Mia and Playfessionals invite you to gather one final time to honor their presence and revel in the legacy they represent. This night is for the visionaries\, the vibemakers\, the policy shapers\, the poets\, and the people who know that our future is written in community.  \nInside the majestic halls of Mia\, we’ll blend art\, ancestry\, music\, and movement—an evening that feels like both a reunion and a launchpad. Whether you’re there to connect\, reflect\, or simply enjoy the moment\, your presence is part of the constellation.  \nThroughout the night\, enjoy immersive soundscapes\, artistic activations\, curated conversation\, and Afro-diasporic flavors that speak to legacy and liberation. Together\, we’ll pause to honor the stories that brought us here—and name what we’re carrying forward.  \nCome dressed in your flyest cosmic drip\, ancestral elegance\, or whatever makes you feel like stardust and legacy combined.  \nWhat to Expect \n5:00 PM – Arrival + Community Gathering \nDoors open to a curated soundscape and stunning visuals. Step into a space designed for deep joy\, reconnection\, and inspiration with Shu Universe (DJ Willie Shu) providing the soundtrack).  \n6:00 PM – Welcome and Remarks \nQuick remarks by the Playfessionals\, AALF\, and Mia team.  \n6:30 PM – Collective Celebration Continues \nMingle\, connect\, and create. Enjoy artistic expressions\, flavorful bites\, and soulful music as the evening unfolds into a space of community\, reflection\, and joy.  \n7:00 PM – Limited Final Guided Tour of “Giants” \nExperience “Giants” through an intentional\, culturally grounded lens—led by a dynamic guide who brings the legacy to life. *There is a maximum of 30 participants for the Giants Guided tours.* \n8:00 PM – Final Orbit \nWe close the night with rhythm\, laughter\, and a shared sense of purpose—surrounded by brilliance\, legacy\, and each other.  \nEats + Sips  \n\nFood by Pimento Jamaican Kitchen – bold Caribbean flavors\, rooted in tradition \n\n\nCash Bar by Steady Pour – cosmic cocktails\, wine\, and spirits for the grown and grounded \n\nCome As You Are—Or Who You Want to Be\nCosmic drip. Ancestral elegance. Futuristic flow. Show up in what makes you feel like a legacy in motion. \nPresented By\nThe Forum – visionaries advancing Black-centered policy\, economic liberation\, cultural wellness\, and collective joy across Minnesota.  \nPlayfessionals – Curating joyful\, stylish\, and professional networking experiences across the Twin Cities.\n \nSponsored by the Minneapolis Institute of Art (Mia) – steward of the Giants exhibit and champion of art\, community\, and imagination. [/vc_column_text][/vc_column][/vc_row][vc_row row_background_lines=”none”][vc_column][vc_btn title=”RSVP – SOLD OUT” style=”custom” custom_background=”#d63131″ custom_text=”#ffffff” shape=”round” size=”lg” align=”center” css_animation=”fadeIn” css=”” button_block=”true” link=”url:https%3A%2F%2Ftickets.artsmia.org%2Fevents%2F0197a35a-0fba-f9dc-019f-68619c4efd21|target:_blank”][/vc_column][/vc_row]
URL:https://playfessionals.com/network-event/blk-canvas-the-art-of-black-futurism-an-afrofuturist-celebration/
LOCATION:Minneapolis Institute of Arts – Target Wing\, 2400 3rd Ave S\, Minneapolis\, MN\, 55404\, United States
CATEGORIES:Playfessionals,Playfessionals Exclusives
ATTACH;FMTTYPE=image/jpeg:https://playfessionals.com/wp-content/uploads/2025/07/Sold-OutBlk-Canvas.jpg
ORGANIZER;CN="Playfessionals":MAILTO:concierge@playfessionals.com
END:VEVENT
BEGIN:VEVENT
DTSTART;TZID=America/Chicago:20250710T183000
DTEND;TZID=America/Chicago:20250710T200000
DTSTAMP:20260424T070935
CREATED:20250612T201443Z
LAST-MODIFIED:20250709T134752Z
UID:22946-1752172200-1752177600@playfessionals.com
SUMMARY:July 10 -  Session 7 - PF Pure Drive Group Golf Lessons - Season 3
DESCRIPTION:[vc_row row_background_lines=”none”][vc_column][vc_column_text css=””] \n\nJoin us for PureDrive:On & Off the Course.\n\nPlayfessionals Pure Drive is a session of group golf lessons designed for Beginners\, novice and advanced players to learn the game from golf professionals and prepare you for your next corporate golf outing or round with friends. We know business also happens on the Golf Course but why not have some fun! \nSpace is limited. Bring your own clubs or the Golf Professional will have Clubs for you as well! \n\nDESIGNED FOR BEGINNERS\,NOVICE AND ADVANCED PLAYERS TO LEARN THE GAME FROM GOLF PROFESSIONALS AND PREPARE YOU FOR YOUR NEXT GOLF OUTING.\n\n[/vc_column_text][vc_single_image image=”3403″ img_size=”full” alignment=”center” css=””][vc_empty_space][vc_masonry_media_grid css=”” grid_id=”vc_gid:1746278539180-bf04886a-71f2-0″ include=”3408\,14291\,14282\,3639\,3631\,14612\,3577\,3537\,3377″][vc_empty_space][vc_single_image image=”3588″ img_size=”full” alignment=”center” css=””][vc_column_text css=””]ABOUT THE GOLF PRO:\nBryan Skavnak \nBryan Skavnak is the happiest golf professional in Minnesota.  Through his heartfelt and sometimes goofy stories\, Bryan blends humor and inspiration to teach you about golf and life.  He is the author of the #1 Best Selling book\, Happy Golf Starts Here.  He is the founder of the Bryan Skavnak Golf Academy\, which for nearly 20 years has taught kids and adults how to have more fun and confidence by showing them that score doesn’t matter\, people do. \nAs an inspiring speaker and writer\, Bryan has helped thousands of golfers (and non-golfers) achieve their dream of being happier and more confident by revealing how to surround themselves with a team of good people and embrace how the game of golf can improve relationships. \n  \nWhats the Goal?: \nWe are working up to our yearly 9 Hole Golf Challenge that will take place on Sunday\, August 24\, 2025 at Braemar Golf Course. This fun fill weekend will include a S.I.P event\, Friday Night Yacht Excursion\, the Gathering on the Green the post Challenge social and day party![/vc_column_text][vc_single_image image=”21333″ img_size=”full” alignment=”center” css=””][vc_empty_space][/vc_column][/vc_row][vc_row disable_element=”yes” row_background_lines=”none”][vc_column][vc_masonry_media_grid element_width=”2″ css=”” grid_id=”vc_gid:1746278539192-061bc2b3-2b37-10″ include=”21327\,21363\,21323\,21332\,21379\,21356\,21347\,21358\,21390\,21370\,21326\,21373\,21342\,21383\,21385\,21328\,21338\,21382\,21331\,21337\,21348\,21375\,21343\,21345\,21389\,21351\,21362\,21367\,21360\,21372\,21378\,21381″][vc_masonry_media_grid element_width=”2″ css=”” grid_id=”vc_gid:1746278539227-d4e42f14-d3bb-9″ include=”21327\,21363\,21323\,21332\,21356\,21347\,21358\,21390\,21370\,21326\,21342\,21383\,21328\,21338\,21382\,21331\,21387\,21335\,21336\,21337\,21340\,21348\,21375\,21341\,21343\,21345\,21380\,21346\,21371\,21349\,21389\,21350\,21351\,21352\,21357\,21359\,21361\,21362\,21364\,21365\,21366\,21367\,21368\,21360\,21339\,21372\,21373\,21374\,21376\,21377\,21378\,21379\,21381\,21385\,21388″][/vc_column][/vc_row]
URL:https://playfessionals.com/network-event/july-10-session-7-pf-pure-drive-group-golf-lessons-season-3/
LOCATION:Edinburgh Golf Course 8700 Edinbrook Crossing Brooklyn Park\, MN 55443\, 8700 Edinbrook Crossing\, Brooklyn Park\, 55443\, United States
CATEGORIES:Country Club,Pure Drive Group Golf Lessons
ATTACH;FMTTYPE=image/jpeg:https://playfessionals.com/wp-content/uploads/2025/06/0710-PF-Pure-Drive-Season-3-Story-.jpg
ORGANIZER;CN="Playfessionals":MAILTO:concierge@playfessionals.com
END:VEVENT
END:VCALENDAR