BEGIN:VCALENDAR
VERSION:2.0
PRODID:-//Playfessionals - ECPv6.15.20//NONSGML v1.0//EN
CALSCALE:GREGORIAN
METHOD:PUBLISH
X-ORIGINAL-URL:https://playfessionals.com
X-WR-CALDESC:Events for Playfessionals
REFRESH-INTERVAL;VALUE=DURATION:PT1H
X-Robots-Tag:noindex
X-PUBLISHED-TTL:PT1H
BEGIN:VTIMEZONE
TZID:America/Chicago
BEGIN:DAYLIGHT
TZOFFSETFROM:-0600
TZOFFSETTO:-0500
TZNAME:CDT
DTSTART:20250309T080000
END:DAYLIGHT
BEGIN:STANDARD
TZOFFSETFROM:-0500
TZOFFSETTO:-0600
TZNAME:CST
DTSTART:20251102T070000
END:STANDARD
BEGIN:DAYLIGHT
TZOFFSETFROM:-0600
TZOFFSETTO:-0500
TZNAME:CDT
DTSTART:20260308T080000
END:DAYLIGHT
BEGIN:STANDARD
TZOFFSETFROM:-0500
TZOFFSETTO:-0600
TZNAME:CST
DTSTART:20261101T070000
END:STANDARD
BEGIN:DAYLIGHT
TZOFFSETFROM:-0600
TZOFFSETTO:-0500
TZNAME:CDT
DTSTART:20270314T080000
END:DAYLIGHT
BEGIN:STANDARD
TZOFFSETFROM:-0500
TZOFFSETTO:-0600
TZNAME:CST
DTSTART:20271107T070000
END:STANDARD
END:VTIMEZONE
BEGIN:VEVENT
DTSTART;TZID=America/Chicago:20260205T173000
DTEND;TZID=America/Chicago:20260205T200000
DTSTAMP:20260423T184525
CREATED:20260121T210117Z
LAST-MODIFIED:20260206T183357Z
UID:28991-1770312600-1770321600@playfessionals.com
SUMMARY:Playfessionals The Art of Networking:Coloring outside the lines at the Mia
DESCRIPTION:[vc_row row_background_lines=”none”][vc_column][vc_column_text css=””] \nColoring Outside the Lines launches as Part One of a four-part exhibition series\, setting the tone for an immersive evening where art\, sound\, and community converge. This opening chapter explores resistance not only as protest\, but as a creative and deeply human response to limitation. Through bold color\, intentional form\, and expressive departures from convention\, the featured works invite guests to reflect on agency\, voice\, and transformation—asking what it truly means to push beyond imposed boundaries. \nThe evening experience is designed to feel social yet reflective. A cash bar will be available throughout the night\, encouraging relaxed conversation and connection\, while DJ Willie Shu provides the soundtrack—layering rhythm and mood to complement the visual journey. Convenient parking is available in a nearby ramp for a small fee\, ensuring easy access for guests arriving from across the Twin Cities. \nThe exhibition features pieces curated in partnership with the Minneapolis Institute of Art\, an institution internationally recognized for its expansive collection\, cultural stewardship\, and commitment to community engagement. Mia’s involvement brings curatorial depth and contextual richness to the evening\, reinforcing the exhibition’s connection to broader conversations around equity\, representation\, and the role of art as a catalyst for reflection and change. Together\, Coloring Outside the Lines: Part I marks the beginning of a larger narrative—one that will continue to unfold across future installations. \nLimited Space Available – RSVP Now\n[/vc_column_text][vc_empty_space][vc_separator color=”black” css=””][vc_empty_space][/vc_column][/vc_row][vc_row content_placement=”middle” css_animation=”fadeIn” row_background_lines=”none”][vc_column width=”1/4″][vc_custom_heading text=”Grazing Table provided” font_container=”tag:h4|text_align:center” use_theme_fonts=”yes” css=””][vc_single_image image=”29072″ img_size=”medium” alignment=”center” css=””][vc_empty_space][vc_separator color=”black” css=””][vc_empty_space][vc_custom_heading text=”Sponsored by” font_container=”tag:h4|text_align:center” use_theme_fonts=”yes” css=””][vc_single_image image=”29070″ img_size=”300″ alignment=”center” css=””][/vc_column][vc_column width=”1/4″][/vc_column][vc_column width=”1/4″][/vc_column][vc_column width=”1/4″][/vc_column][/vc_row][vc_row row_background_lines=”none”][vc_column][vc_empty_space height=”50px”][vc_masonry_media_grid element_width=”3″ css=”” grid_id=”vc_gid:1769199426773-2dd39c8b-2357-5″ include=”24392\,24379\,24375\,24337\,24339\,24343\,24411\,24408\,24405\,24394\,24380\,24309\,24294\,24290\,24287\,24282\,24284\,24266\,24268\,24254\,24244\,24239\,24226\,24224″][/vc_column][/vc_row]
URL:https://playfessionals.com/network-event/playfessionals-the-art-of-networkingcoloring-outside-the-lines-at-the-mia/
LOCATION:Minneapolis Institute of Arts – Target Wing\, 2400 3rd Ave S\, Minneapolis\, MN\, 55404\, United States
CATEGORIES:ART,Playfessionals
ATTACH;FMTTYPE=image/jpeg:https://playfessionals.com/wp-content/uploads/2026/01/PF-MIA-Feb-5-Story.jpg
ORGANIZER;CN="Playfessionals":MAILTO:concierge@playfessionals.com
END:VEVENT
END:VCALENDAR