BEGIN:VCALENDAR
VERSION:2.0
PRODID:-//Playfessionals - ECPv6.15.20//NONSGML v1.0//EN
CALSCALE:GREGORIAN
METHOD:PUBLISH
X-ORIGINAL-URL:https://playfessionals.com
X-WR-CALDESC:Events for Playfessionals
REFRESH-INTERVAL;VALUE=DURATION:PT1H
X-Robots-Tag:noindex
X-PUBLISHED-TTL:PT1H
BEGIN:VTIMEZONE
TZID:America/Chicago
BEGIN:DAYLIGHT
TZOFFSETFROM:-0600
TZOFFSETTO:-0500
TZNAME:CDT
DTSTART:20230312T080000
END:DAYLIGHT
BEGIN:STANDARD
TZOFFSETFROM:-0500
TZOFFSETTO:-0600
TZNAME:CST
DTSTART:20231105T070000
END:STANDARD
BEGIN:DAYLIGHT
TZOFFSETFROM:-0600
TZOFFSETTO:-0500
TZNAME:CDT
DTSTART:20240310T080000
END:DAYLIGHT
BEGIN:STANDARD
TZOFFSETFROM:-0500
TZOFFSETTO:-0600
TZNAME:CST
DTSTART:20241103T070000
END:STANDARD
BEGIN:DAYLIGHT
TZOFFSETFROM:-0600
TZOFFSETTO:-0500
TZNAME:CDT
DTSTART:20250309T080000
END:DAYLIGHT
BEGIN:STANDARD
TZOFFSETFROM:-0500
TZOFFSETTO:-0600
TZNAME:CST
DTSTART:20251102T070000
END:STANDARD
END:VTIMEZONE
BEGIN:VTIMEZONE
TZID:UTC
BEGIN:STANDARD
TZOFFSETFROM:+0000
TZOFFSETTO:+0000
TZNAME:UTC
DTSTART:20230101T000000
END:STANDARD
END:VTIMEZONE
BEGIN:VEVENT
DTSTART;TZID=America/Chicago:20240725T180000
DTEND;TZID=America/Chicago:20240725T193000
DTSTAMP:20260423T183906
CREATED:20240709T155250Z
LAST-MODIFIED:20240709T155426Z
UID:14858-1721930400-1721935800@playfessionals.com
SUMMARY:Session 10 - PF Pure Drive Group Golf Lessons
DESCRIPTION:Playfessionals Pure Drive is a session of group golf lessons designed for Beginners\, novice and advanced players to learn the game from golf professionals and prepare you for your next corporate golf outing or round with friends. We know business also happens on the Golf Course but why not have some fun!
URL:https://playfessionals.com/network-event/session-10-pf-pure-drive-group-golf-lessons/
LOCATION:Edinburgh Golf Course 8700 Edinbrook Crossing Brooklyn Park\, MN 55443\, 8700 Edinbrook Crossing\, Brooklyn Park\, 55443\, United States
CATEGORIES:Country Club
ATTACH;FMTTYPE=image/jpeg:https://playfessionals.com/wp-content/uploads/2024/05/PF-Pure-Drive-Season-2-cover-jpg.webp
ORGANIZER;CN="Playfessionals":MAILTO:concierge@playfessionals.com
END:VEVENT
BEGIN:VEVENT
DTSTART;TZID=America/Chicago:20240723T180000
DTEND;TZID=America/Chicago:20240723T193000
DTSTAMP:20260423T183906
CREATED:20240709T154517Z
LAST-MODIFIED:20240709T155121Z
UID:14850-1721757600-1721763000@playfessionals.com
SUMMARY:Session 9 - PF Pure Drive Group Golf Lessons
DESCRIPTION:Playfessionals Pure Drive is a session of group golf lessons designed for Beginners\, novice and advanced players to learn the game from golf professionals and prepare you for your next corporate golf outing or round with friends. We know business also happens on the Golf Course but why not have some fun! \nSpace is limited. Bring your own clubs or the Golf Professional will have Clubs for you as well! \n\nDESIGNED FOR BEGINNERS\,NOVICE AND ADVANCED PLAYERS TO LEARN THE GAME FROM GOLF PROFESSIONALS AND PREPARE YOU FOR YOUR NEXT GOLF OUTING.
URL:https://playfessionals.com/network-event/playfessionals-pure-drive-group-golf-lessons/
LOCATION:Edinburgh Golf Course 8700 Edinbrook Crossing Brooklyn Park\, MN 55443\, 8700 Edinbrook Crossing\, Brooklyn Park\, 55443\, United States
CATEGORIES:Country Club
ATTACH;FMTTYPE=image/jpeg:https://playfessionals.com/wp-content/uploads/2024/05/PF-Pure-Drive-Season-2-cover-jpg.webp
ORGANIZER;CN="Playfessionals":MAILTO:concierge@playfessionals.com
END:VEVENT
BEGIN:VEVENT
DTSTART;TZID=UTC:20240629T110000
DTEND;TZID=UTC:20240629T150000
DTSTAMP:20260423T183906
CREATED:20240603T000949Z
LAST-MODIFIED:20240702T173853Z
UID:4920-1719658800-1719673200@playfessionals.com
SUMMARY:INDIVIDUAL TICKETS: Movers & Shakers Brunch Volume #10
DESCRIPTION:[vc_row row_background_lines=”none”][vc_column][vc_custom_heading text=”***SOLD OUT – NO TICKET SALES AT DOOR***” font_container=”tag:h1|font_size:40PX|text_align:center|color:%23dd3333″ use_theme_fonts=”yes”][vc_column_text css_animation=”fadeIn”]Playfessionals presents our 10th PF Movers & Shakers Brunch\, a vibe to bring striving professionals together in the Twin Cities. Developing Cultivated Connections for a lifetime. \nJoin the many Twin Cities professionals\, tastemakers & socialites for a beautiful Saturday of Mingling while sipping and Munching on some of the best culinary cuisines that the Twin Cities has to offer by Mr. Paul’s Supper Club\, one of the Twin Cities’ premier restaurants. \nAs the attire for this event is always chic\, bring the best you! Be sure to arrive early and fashionable. \nSounds by Shu[/vc_column_text][vc_custom_heading text=”EVENT DETAILS” font_container=”tag:h3|text_align:left” use_theme_fonts=”yes”][vc_column_text]This 21+ networking brunch will be between 11am-3pm with all tickets being available to be purchased online as we will have no ticket sales at the door. 11:00am Early Arrival Recommended if intending to eat Brunch for seating purposes. \n *Table reservations available for parties of 5 or more for additional fee while available. contact tables@playfessionals.com for more information* \n[/vc_column_text][vc_custom_heading text=”BRUNCH BUFFET SOLD SEPARATELY AT VENUE” font_container=”tag:h3|text_align:left” use_theme_fonts=”yes”][vc_column_text]Brunch Buffet  \nThe optional Brunch Buffet is available at the door of venue for $36+Tax ($30 Brunch & Two Complimentary Mimosas + $6 Tip) \nBrunch Buffet Fee at venue includes Food Buffet Wristband &Two complimentary Mimosas while supplies last[/vc_column_text][vc_custom_heading text=”REFUND POLICY” font_container=”tag:h3|text_align:left” use_theme_fonts=”yes”][vc_column_text]Unfortunately NO REFUNDS or RAINCHECKS (unless event is cancelled) will be issued on entrance tickets to event.[/vc_column_text][/vc_column][/vc_row][vc_row row_background_lines=”none”][vc_column][vc_masonry_media_grid element_width=”3″ gap=”2″ initial_loading_animation=”fadeIn” grid_id=”vc_gid:1719496468668-abe2f93a-38c3-6″ include=”4354\,4015\,3998\,3987\,3956\,3945\,3912\,1005\,898\,4356″][/vc_column][/vc_row][vc_row row_background_lines=”none”][vc_column][/vc_column][/vc_row]
URL:https://playfessionals.com/network-event/playfessionals-presents-movers-shakers-brunch-volume-10/
LOCATION:The B Suite\, 81 South 9th St\, Minneapolis\, MN\, 55402\, United States
CATEGORIES:Movers & Shakers Brunch,Playfessionals
ATTACH;FMTTYPE=image/jpeg:https://playfessionals.com/wp-content/uploads/2024/06/PF-MS-10-Web-Cover-jpg.webp
ORGANIZER;CN="Playfessionals":MAILTO:concierge@playfessionals.com
END:VEVENT
END:VCALENDAR