BEGIN:VCALENDAR
VERSION:2.0
PRODID:-//Playfessionals - ECPv6.15.20//NONSGML v1.0//EN
CALSCALE:GREGORIAN
METHOD:PUBLISH
X-ORIGINAL-URL:https://playfessionals.com
X-WR-CALDESC:Events for Playfessionals
REFRESH-INTERVAL;VALUE=DURATION:PT1H
X-Robots-Tag:noindex
X-PUBLISHED-TTL:PT1H
BEGIN:VTIMEZONE
TZID:America/Chicago
BEGIN:DAYLIGHT
TZOFFSETFROM:-0600
TZOFFSETTO:-0500
TZNAME:CDT
DTSTART:20250309T080000
END:DAYLIGHT
BEGIN:STANDARD
TZOFFSETFROM:-0500
TZOFFSETTO:-0600
TZNAME:CST
DTSTART:20251102T070000
END:STANDARD
BEGIN:DAYLIGHT
TZOFFSETFROM:-0600
TZOFFSETTO:-0500
TZNAME:CDT
DTSTART:20260308T080000
END:DAYLIGHT
BEGIN:STANDARD
TZOFFSETFROM:-0500
TZOFFSETTO:-0600
TZNAME:CST
DTSTART:20261101T070000
END:STANDARD
BEGIN:DAYLIGHT
TZOFFSETFROM:-0600
TZOFFSETTO:-0500
TZNAME:CDT
DTSTART:20270314T080000
END:DAYLIGHT
BEGIN:STANDARD
TZOFFSETFROM:-0500
TZOFFSETTO:-0600
TZNAME:CST
DTSTART:20271107T070000
END:STANDARD
END:VTIMEZONE
BEGIN:VEVENT
DTSTART;TZID=America/Chicago:20260205T173000
DTEND;TZID=America/Chicago:20260205T200000
DTSTAMP:20260423T151957
CREATED:20260121T210117Z
LAST-MODIFIED:20260206T183357Z
UID:28991-1770312600-1770321600@playfessionals.com
SUMMARY:Playfessionals The Art of Networking:Coloring outside the lines at the Mia
DESCRIPTION:[vc_row row_background_lines=”none”][vc_column][vc_column_text css=””] \nColoring Outside the Lines launches as Part One of a four-part exhibition series\, setting the tone for an immersive evening where art\, sound\, and community converge. This opening chapter explores resistance not only as protest\, but as a creative and deeply human response to limitation. Through bold color\, intentional form\, and expressive departures from convention\, the featured works invite guests to reflect on agency\, voice\, and transformation—asking what it truly means to push beyond imposed boundaries. \nThe evening experience is designed to feel social yet reflective. A cash bar will be available throughout the night\, encouraging relaxed conversation and connection\, while DJ Willie Shu provides the soundtrack—layering rhythm and mood to complement the visual journey. Convenient parking is available in a nearby ramp for a small fee\, ensuring easy access for guests arriving from across the Twin Cities. \nThe exhibition features pieces curated in partnership with the Minneapolis Institute of Art\, an institution internationally recognized for its expansive collection\, cultural stewardship\, and commitment to community engagement. Mia’s involvement brings curatorial depth and contextual richness to the evening\, reinforcing the exhibition’s connection to broader conversations around equity\, representation\, and the role of art as a catalyst for reflection and change. Together\, Coloring Outside the Lines: Part I marks the beginning of a larger narrative—one that will continue to unfold across future installations. \nLimited Space Available – RSVP Now\n[/vc_column_text][vc_empty_space][vc_separator color=”black” css=””][vc_empty_space][/vc_column][/vc_row][vc_row content_placement=”middle” css_animation=”fadeIn” row_background_lines=”none”][vc_column width=”1/4″][vc_custom_heading text=”Grazing Table provided” font_container=”tag:h4|text_align:center” use_theme_fonts=”yes” css=””][vc_single_image image=”29072″ img_size=”medium” alignment=”center” css=””][vc_empty_space][vc_separator color=”black” css=””][vc_empty_space][vc_custom_heading text=”Sponsored by” font_container=”tag:h4|text_align:center” use_theme_fonts=”yes” css=””][vc_single_image image=”29070″ img_size=”300″ alignment=”center” css=””][/vc_column][vc_column width=”1/4″][/vc_column][vc_column width=”1/4″][/vc_column][vc_column width=”1/4″][/vc_column][/vc_row][vc_row row_background_lines=”none”][vc_column][vc_empty_space height=”50px”][vc_masonry_media_grid element_width=”3″ css=”” grid_id=”vc_gid:1769199426773-2dd39c8b-2357-5″ include=”24392\,24379\,24375\,24337\,24339\,24343\,24411\,24408\,24405\,24394\,24380\,24309\,24294\,24290\,24287\,24282\,24284\,24266\,24268\,24254\,24244\,24239\,24226\,24224″][/vc_column][/vc_row]
URL:https://playfessionals.com/network-event/playfessionals-the-art-of-networkingcoloring-outside-the-lines-at-the-mia/
LOCATION:Minneapolis Institute of Arts – Target Wing\, 2400 3rd Ave S\, Minneapolis\, MN\, 55404\, United States
CATEGORIES:ART,Playfessionals
ATTACH;FMTTYPE=image/jpeg:https://playfessionals.com/wp-content/uploads/2026/01/PF-MIA-Feb-5-Story.jpg
ORGANIZER;CN="Playfessionals":MAILTO:concierge@playfessionals.com
END:VEVENT
BEGIN:VEVENT
DTSTART;TZID=America/Chicago:20260304T180000
DTEND;TZID=America/Chicago:20260304T210000
DTSTAMP:20260423T151957
CREATED:20260223T225623Z
LAST-MODIFIED:20260223T234854Z
UID:29560-1772647200-1772658000@playfessionals.com
SUMMARY:S.I.P at RAAG #12 Minneapolis
DESCRIPTION:[vc_row row_background_lines=”none”][vc_column][vc_column_text css=””] \nWe know it’s Sudden\, maybe even Impulsive but it’s time to Play again!\n  \nS.I.P. steps into a new space at Raag On 50th\,  a modern Indian dining and lounge experience in the heart of 50th & France. On Wednesday\, March 4th from 6–9PM\, we gather for an elevated after-work social designed for professionals who value intention\, culture\, and connection. \nRaag’s bold design\, curated cocktails\, and contemporary Indian flavors create the perfect backdrop for meaningful conversation and refined energy. Expect a room filled with ambitious leaders\, creatives\, entrepreneurs\, and community builders  all coming together to exchange ideas\, celebrate wins\, and expand their circles. \nThis isn’t a typical happy hour.It’s curated networking with ambiance.It’s libations with purpose.It’s your mid-week reset. \nWhether you’re building partnerships\, reconnecting with familiar faces\, or stepping into new rooms in 2026 …  S.I.P. at Raag on 50th is where momentum meets atmosphere. \nDress well.Bring business cards (and good energy).Secure your spot — the room will be intentional. \nThis event is Complimentary but you must RSVP. Dress code is business casual and chic.\nCome to SIP with us!\nYou’ve been summoned. Enjoy![/vc_column_text][vc_empty_space height=”10px”][vc_masonry_media_grid css=”” grid_id=”vc_gid:1771887731939-0422d9ff-1e16-7″ include=”26705\,26702\,26696\,26700\,26684\,26710\,26680\,26678\,26668\,26674″][/vc_column][/vc_row][vc_row disable_element=”yes” row_background_lines=”none”][vc_column][/vc_column][/vc_row]
URL:https://playfessionals.com/network-event/s-i-p-at-raag-12-minneapolis/
LOCATION:Raag\, 3812 W 50th Street\, Minneapolis\, 55410\, United States
CATEGORIES:Sudden Impulsive Play
ATTACH;FMTTYPE=image/jpeg:https://playfessionals.com/wp-content/uploads/2026/02/3_4_26-2026-SIP-story.jpg
ORGANIZER;CN="Playfessionals":MAILTO:concierge@playfessionals.com
END:VEVENT
BEGIN:VEVENT
DTSTART;TZID=America/Chicago:20260307T210000
DTEND;TZID=America/Chicago:20260308T010000
DTSTAMP:20260423T151957
CREATED:20260227T000942Z
LAST-MODIFIED:20260308T024309Z
UID:29639-1772917200-1772931600@playfessionals.com
SUMMARY:Playfessionals Saturday Soirée Volume IV – Creative Connections
DESCRIPTION:[vc_row row_background_lines=”none”][vc_column][vc_column_text css=””] \nAfter a brief hiatus\, one of our signature experiences returns.\nThe Playfessionals Saturday Soirée is back for its fourth installment an elevated and intimate Saturday evening social designed for professionals who understand that success isn’t just about what you build during the week… it’s about how you show up when it’s time to celebrate it. \nThis edition unfolds at The Den at the Mosaic in Minneapolis a refined setting that perfectly complements the mood of the evening. Stylish. Intentional. Inviting. The kind of space where conversations flow naturally and energy lingers long after the music fades. \nThis is your invitation to dress up\, step out\, and reconnect.\nCurated with purpose\, Saturday Soirée creates a more personal atmosphere—where introductions feel genuine and the room feels connected. This isn’t a crowded scene. It’s a refined gathering of leaders\, creatives\, entrepreneurs\, and friends coming together to enjoy libations\, meaningful dialogue\, and elevated vibes. \n\nThis special evening will also honor and celebrate our incredible community connectors\, Jeff Aguy\, and Betting on Us\, whose ability to bring people together continues to strengthen our professional and social ecosystem. The night is a tribute to connection—the kind that builds bridges\, opens doors\, and creates lasting impact. \n\nDJ Shu sets the soundtrack for the evening\, blending nostalgic favorites with smooth transitions and fresh energy that keeps the atmosphere vibrant without overpowering the intimacy of the space. \nExpect crafted drinks. Elevated style. Authentic energy.An atmosphere where friendships deepen and new collaborations begin.\nThis isn’t just another night out.It’s a return to intentional connection hosted in a space designed for it. \nAttire – Cocktail and chic\nWork hard. Connect intentionally. Celebrate together.\nWelcome back to Saturday Soirée.\n[/vc_column_text][vc_empty_space][vc_separator color=”black” css=””][vc_empty_space][/vc_column][/vc_row][vc_row row_background_lines=”none”][vc_column][vc_empty_space height=”50px”][/vc_column][/vc_row]
URL:https://playfessionals.com/network-event/playfessionals-saturday-soiree-volume-iv-creative-connections/
LOCATION:The Den at Mosiac\, 817 5th Ave S\, Suite 300\, Minneapolis\, MN\, 55404\, United States
CATEGORIES:Playfessionals,Saturday Soiree
ATTACH;FMTTYPE=image/jpeg:https://playfessionals.com/wp-content/uploads/2026/02/FB-PB-SS-Ad.jpg
ORGANIZER;CN="Playfessionals":MAILTO:concierge@playfessionals.com
END:VEVENT
BEGIN:VEVENT
DTSTART;TZID=America/Chicago:20260402T170000
DTEND;TZID=America/Chicago:20260402T190000
DTSTAMP:20260423T151957
CREATED:20260313T234343Z
LAST-MODIFIED:20260402T215414Z
UID:30290-1775149200-1775156400@playfessionals.com
SUMMARY:The Mosaic Event Series Meet and Greet #1
DESCRIPTION:[vc_row row_background_lines=”none”][vc_column][vc_column_text css_animation=”fadeIn” css=””] \n\n\n\n\n\nYou’re personally invited to be part of something meaningful The Mosaic Meet & Greet #1!\n\n\n\n\n\n\n\n\n\n\nAs we prepare for the launch of the Mosaic Event Series\, we’re bringing together a small group of individuals who naturally connect people and help create welcoming spaces. The goal of Mosaic is simple but powerful: to bring people from different cultures\, communities\, and backgrounds together in authentic and meaningful ways.  \nBefore the official event we’re hosting a The Mosiac Meet & Greet #1 with a handful of personally invited guests who we believe would play an important role in shaping the energy of the larger gathering. \nAt this casual evening\, we’ll share the vision for Mosaic and talk about how a few intentional connectors can help ensure guests are mixing across cultures\, meeting new people\, and experiencing the spirit of what Mosaic is all about. \nThis is not a formal commitment\, The Mosiac Meet & Greet #1 is just an opportunity to hear about the idea\, meet a few other community builders\, and see if you’d enjoy being part of helping create something special. \n\n\n\n\n\n\n\n\n\n\nLight bites will be complimentary provided by Wandering Charcuterie and beverages poured by Toast Tours \, and the evening will be relaxed\, conversational\, and fun. \n\n\n\n\n\n[/vc_column_text][vc_empty_space height=”40px”][vc_custom_heading text=”MOSIAC PARTNERS” font_container=”tag:p|text_align:left|color:%23000000″ use_theme_fonts=”yes” css_animation=”fadeIn” css=””][/vc_column][/vc_row][vc_row row_background_lines=”none”][vc_column width=”1/3″][vc_single_image image=”30314″ img_size=”full” alignment=”center” onclick=”custom_link” img_link_target=”_blank” css_animation=”fadeIn” css=”” link=”https://www.joinagc.com”][/vc_column][vc_column width=”1/3″][vc_single_image image=”30326″ img_size=”full” alignment=”center” onclick=”custom_link” img_link_target=”_blank” css_animation=”fadeIn” css=”” link=”https://theb3project.com”][/vc_column][vc_column width=”1/3″][vc_single_image image=”30316″ img_size=”full” alignment=”center” onclick=”custom_link” img_link_target=”_blank” css_animation=”fadeIn” css=”” link=”https://firstthursdaymn.com”][/vc_column][/vc_row][vc_row row_background_lines=”none”][vc_column width=”1/3″][vc_single_image image=”30320″ img_size=”full” alignment=”center” onclick=”custom_link” img_link_target=”_blank” css_animation=”fadeIn” css=”” link=”https://www.instagram.com/latinonetworkexchange/”][/vc_column][vc_column width=”1/3″][vc_single_image image=”30317″ img_size=”full” alignment=”center” onclick=”custom_link” img_link_target=”_blank” css_animation=”fadeIn” css=”” link=”https://playfessionals.com/playfessionals-team/”][/vc_column][vc_column width=”1/3″][vc_single_image image=”30318″ img_size=”full” alignment=”center” onclick=”custom_link” img_link_target=”_blank” css_animation=”fadeIn” css=”” link=”https://www.linkedin.com/company/projectimpactworkshops/about/”][/vc_column][/vc_row][vc_row row_background_lines=”none”][vc_column][vc_empty_space height=”40px”][vc_custom_heading text=”Venue Sponsor” font_container=”tag:p|text_align:left|color:%23000000″ use_theme_fonts=”yes” css_animation=”fadeIn” css=””][/vc_column][/vc_row][vc_row content_placement=”top” row_background_lines=”none”][vc_column width=”1/3″][vc_single_image image=”30315″ img_size=”full” alignment=”center” onclick=”custom_link” img_link_target=”_blank” css_animation=”fadeIn” css=”” link=”https://brxmo.com”][/vc_column][vc_column width=”1/3″][/vc_column][vc_column width=”1/3″][/vc_column][/vc_row][vc_row row_background_lines=”none”][vc_column][vc_empty_space height=”40px”][vc_custom_heading text=”Charcuterie Sponsor” font_container=”tag:p|text_align:left|color:%23000000″ use_theme_fonts=”yes” css_animation=”fadeIn” css=””][/vc_column][/vc_row][vc_row content_placement=”top” css_animation=”fadeIn” row_background_lines=”none”][vc_column width=”1/3″][vc_single_image image=”30319″ img_size=”full” alignment=”center” onclick=”custom_link” img_link_target=”_blank” css_animation=”fadeIn” css=”” link=”https://www.wanderingcharcuteriemn.com”][/vc_column][vc_column width=”1/3″][/vc_column][vc_column width=”1/3″][/vc_column][/vc_row][vc_row row_background_lines=”none”][vc_column][vc_empty_space height=”40px”][vc_custom_heading text=”Bartending Sponsor” font_container=”tag:p|text_align:left|color:%23000000″ use_theme_fonts=”yes” css_animation=”fadeIn” css=””][/vc_column][/vc_row][vc_row content_placement=”top” css_animation=”fadeIn” row_background_lines=”none”][vc_column width=”1/3″][vc_single_image image=”15303″ img_size=”full” alignment=”center” onclick=”custom_link” img_link_target=”_blank” css_animation=”fadeIn” css=”” link=”https://www.booktoasttours.com”][/vc_column][vc_column width=”1/3″][/vc_column][vc_column width=”1/3″][/vc_column][/vc_row]
URL:https://playfessionals.com/network-event/the-mosiac-event-series-meet-and-greet-1/
LOCATION:Brick & Mortar\, 314 N 1st Ave 4th Floor\, Minneapolis\, MN\, 55401\, United States
CATEGORIES:The Mosaic Event Series,The Mosiac Event Series
ATTACH;FMTTYPE=image/jpeg:https://playfessionals.com/wp-content/uploads/2026/03/The-Mosiac-Invitation-1650x1650-2.jpg
END:VEVENT
BEGIN:VEVENT
DTSTART;TZID=America/Chicago:20260415T180000
DTEND;TZID=America/Chicago:20260415T210000
DTSTAMP:20260423T151957
CREATED:20260401T042451Z
LAST-MODIFIED:20260406T051645Z
UID:30418-1776276000-1776286800@playfessionals.com
SUMMARY:S.I.P at AVA #13 Minneapolis
DESCRIPTION:[vc_row row_background_lines=”none”][vc_column][vc_column_text css=””] \nWe know it’s Sudden\, maybe even Impulsive but it’s time to Play again!\n  \nJoin the Playfessionals and come get comfortable and cozy with some end of Summer vibes as we revisit this hidden gem in the city’s heart with beautiful professionals.\nWe are featuring a cocktail connoisseurs array of drinks\, at an unbelievable location with an atmosphere you deserve.\n\nThis is your opportunity to catch up with some good company or refresh your network as DJ Willie Shu returns and gets you reacquainted with the sounds of the season. \nThis event is Complimentary but you must RSVP. Dress code is business casual and chic.\nDress code enforced by venue.  \n\nCome to SIP with us!\nYou’ve been summoned. Enjoy![/vc_column_text][vc_empty_space height=”10px”][vc_masonry_media_grid css=”” grid_id=”vc_gid:1768999075510-e1797779-9d20-10″ include=”26706\,26705\,26702\,26696\,26700\,26684\,26710\,26680\,26678\,26668\,26674\,26663″][/vc_column][/vc_row][vc_row disable_element=”yes” row_background_lines=”none”][vc_column][/vc_column][/vc_row]
URL:https://playfessionals.com/network-event/s-i-p-at-ava-13-minneapolis/
LOCATION:AVA Minneapolis\, 124 N 3rd Ave\, Minneapolis\, MN\, 55401\, United States
CATEGORIES:Sudden Impulsive Play
ATTACH;FMTTYPE=image/jpeg:https://playfessionals.com/wp-content/uploads/2026/04/SIP4_15_26-2026-Single-Image-Social-1.jpg
ORGANIZER;CN="Playfessionals":MAILTO:concierge@playfessionals.com
END:VEVENT
BEGIN:VEVENT
DTSTART;TZID=America/Chicago:20260514T180000
DTEND;TZID=America/Chicago:20260514T200000
DTSTAMP:20260423T151957
CREATED:20260401T041046Z
LAST-MODIFIED:20260406T051500Z
UID:30355-1778781600-1778788800@playfessionals.com
SUMMARY:Playfessionals The Art of Networking:Coloring outside the lines at the Mia - Art is a Form of Empowerment
DESCRIPTION:[vc_row row_background_lines=”none”][vc_column][vc_column_text css=””] \nColoring Outside the Lines returns on May 14th for Volume #2\, continuing the four-part exhibition series with an elevated evening where art\, sound\, and community converge. This next chapter shifts the focus toward empowerment—exploring how creativity becomes a tool for reclaiming voice\, redefining identity\, and shaping new possibilities. Through bold color\, intentional form\, and expressive departures from convention\, the works invite guests to engage with art not just as observers\, but as participants in a larger narrative of growth\, agency\, and transformation. \nThe evening experience remains both social and reflective. A cash bar will be available throughout the night\, encouraging relaxed conversation and meaningful connection\, while DJ Willie Shu provides the soundtrack—layering rhythm and mood to complement the visual journey. Convenient parking is available via a nearby ramp for a small fee\, making arrival seamless for guests across the Twin Cities. \nThe exhibition once again features pieces curated in partnership with the Minneapolis Institute of Art\, an institution internationally recognized for its expansive collection and commitment to community engagement. Mia’s involvement continues to bring curatorial depth and cultural context\, reinforcing the exhibition’s connection to broader conversations around equity\, representation\, and the transformative power of art. \nVolume #2: Art is a Form of Empowerment builds on the foundation of Part I—expanding the dialogue\, deepening the experience\, and inviting you to continue coloring outside the lines. \nLimited Space Available – RSVP Now \n[/vc_column_text][vc_empty_space][vc_separator color=”black” css=””][vc_empty_space][/vc_column][/vc_row][vc_row content_placement=”middle” css_animation=”fadeIn” row_background_lines=”none”][vc_column width=”1/3″][vc_custom_heading text=”Grazing Table provided” font_container=”tag:h4|text_align:center” use_theme_fonts=”yes” css=””][vc_single_image image=”29072″ img_size=”medium” alignment=”center” css=””][vc_separator color=”black” css=””][/vc_column][vc_column width=”1/3″][vc_empty_space][/vc_column][vc_column width=”1/3″][vc_empty_space][vc_custom_heading text=”Sponsored by” font_container=”tag:h4|text_align:center” use_theme_fonts=”yes” css=””][vc_single_image image=”29070″ img_size=”300″ alignment=”center” css=””][vc_separator color=”black” css=””][/vc_column][/vc_row][vc_row row_background_lines=”none”][vc_column][vc_empty_space height=”50px”][vc_masonry_media_grid element_width=”2″ css=”” grid_id=”vc_gid:1775015693551-9ab17f93-33d6-10″ include=”29545\,29543\,29532\,29534\,29522\,29520\,29514\,29511\,29501\,29494\,29497\,29489\,29481\,29484″][/vc_column][/vc_row]
URL:https://playfessionals.com/network-event/playfessionals-the-art-of-networkingcoloring-outside-the-lines-at-the-mia-art-is-a-form-of-empowerment/
LOCATION:Minneapolis Institute of Arts – Target Wing\, 2400 3rd Ave S\, Minneapolis\, MN\, 55404\, United States
CATEGORIES:ART,Playfessionals
ATTACH;FMTTYPE=image/jpeg:https://playfessionals.com/wp-content/uploads/2026/04/MIA_05_14_2026-Social.jpg
ORGANIZER;CN="Playfessionals":MAILTO:concierge@playfessionals.com
END:VEVENT
END:VCALENDAR