BEGIN:VCALENDAR
VERSION:2.0
PRODID:-//Playfessionals - ECPv6.15.20//NONSGML v1.0//EN
CALSCALE:GREGORIAN
METHOD:PUBLISH
X-ORIGINAL-URL:https://playfessionals.com
X-WR-CALDESC:Events for Playfessionals
REFRESH-INTERVAL;VALUE=DURATION:PT1H
X-Robots-Tag:noindex
X-PUBLISHED-TTL:PT1H
BEGIN:VTIMEZONE
TZID:UTC
BEGIN:STANDARD
TZOFFSETFROM:+0000
TZOFFSETTO:+0000
TZNAME:UTC
DTSTART:20250101T000000
END:STANDARD
END:VTIMEZONE
BEGIN:VTIMEZONE
TZID:America/Chicago
BEGIN:DAYLIGHT
TZOFFSETFROM:-0600
TZOFFSETTO:-0500
TZNAME:CDT
DTSTART:20250309T080000
END:DAYLIGHT
BEGIN:STANDARD
TZOFFSETFROM:-0500
TZOFFSETTO:-0600
TZNAME:CST
DTSTART:20251102T070000
END:STANDARD
BEGIN:DAYLIGHT
TZOFFSETFROM:-0600
TZOFFSETTO:-0500
TZNAME:CDT
DTSTART:20260308T080000
END:DAYLIGHT
BEGIN:STANDARD
TZOFFSETFROM:-0500
TZOFFSETTO:-0600
TZNAME:CST
DTSTART:20261101T070000
END:STANDARD
BEGIN:DAYLIGHT
TZOFFSETFROM:-0600
TZOFFSETTO:-0500
TZNAME:CDT
DTSTART:20270314T080000
END:DAYLIGHT
BEGIN:STANDARD
TZOFFSETFROM:-0500
TZOFFSETTO:-0600
TZNAME:CST
DTSTART:20271107T070000
END:STANDARD
END:VTIMEZONE
BEGIN:VEVENT
DTSTART;TZID=UTC:20260103T110000
DTEND;TZID=UTC:20260103T150000
DTSTAMP:20260423T183342
CREATED:20251129T224056Z
LAST-MODIFIED:20251230T005132Z
UID:28382-1767438000-1767452400@playfessionals.com
SUMMARY:TABLE RESERVATIONS:  Movers & Shakers Brunch Volume #13 - Brunch Nouveau
DESCRIPTION:[vc_row gap=”15″ row_background_lines=”none”][vc_column][vc_custom_heading text=”EVENT DETAILS” font_container=”tag:h3|text_align:left” use_theme_fonts=”yes”][vc_column_text css=””] \nALL TABLES ARE FIRST COME FIRST SERVE FOR PURCHASE \n  \nThis 21+ networking brunch will be between 11 am- 3 pm with all tickets being available to be purchased online as we will have no ticket sales at the door. 11:00 pm Early Arrival Recommended if intending to eat Brunch for seating purposes. \n *Table reservations available for parties of 5 or more for additional fee while available. contact tables@playfessionals.com with any questions* \n[/vc_column_text][vc_custom_heading text=”BRUNCH BUFFET SOLD SEPERATELY AT VENUE” font_container=”tag:h3|text_align:left” use_theme_fonts=”yes”][vc_column_text css=””]Brunch Buffet  \nThe optional Brunch Buffet is available at the door of venue for $51.50+Tax ($43 Brunch & One Complimentary Mimosa + $8.50 Tip)[/vc_column_text][vc_custom_heading text=”REFUND POLICY” font_container=”tag:h3|text_align:left” use_theme_fonts=”yes”][vc_column_text]Unfortunately NO REFUNDS or RAINCHECKS (unless event is cancelled) will be issued on entrance tickets to event.[/vc_column_text][/vc_column][/vc_row][vc_row gap=”30″ content_placement=”middle” css_animation=”fadeIn” row_background_lines=”none” css=”.vc_custom_1717955643046{background-color: #c9c9c9 !important;background-position: center !important;background-repeat: no-repeat !important;background-size: cover !important;}”][vc_column css=”.vc_custom_1717955632028{margin-top: 30px !important;margin-right: 30px !important;margin-bottom: 30px !important;margin-left: 30px !important;border-top-width: 1px !important;border-right-width: 1px !important;border-bottom-width: 1px !important;border-left-width: 1px !important;padding-top: 30px !important;padding-right: 30px !important;padding-bottom: 30px !important;padding-left: 30px !important;background-color: #c9c9c9 !important;border-left-color: #ffffff !important;border-left-style: solid !important;border-right-color: #ffffff !important;border-right-style: solid !important;border-top-color: #ffffff !important;border-top-style: solid !important;border-bottom-color: #ffffff !important;border-bottom-style: solid !important;border-radius: 2px !important;}”][vc_custom_heading text=”TABLE RESERVATIONS PROCESS & POLICY” font_container=”tag:h2|text_align:center” use_theme_fonts=”yes”][vc_column_text css_animation=”fadeIn” css=””] \n\nThese optional table reservations which come at an additional cost offer a reserved seated space for up to 1 hour and 45 minutes. \nWe offer two table reservations seatings from 11:00 am – 12:45 pm and 1:00 pm – 2:45 pm. \nKEY NOTES WHEN RESERVING A TABLE: \n\nTHE MAIN GUEST RESERVING THE TABLE IS RESPONSIBLE FOR ALL OF THEIR GUEST ADHERING TO THE BRUNCH AND VENUE RULES\, INCLUDING TIME OF ARRIVAL AND VACATING TABLE FOR NEXT GUEST. \nPlease show up within the first 30 minutes of your seating reservation (by 11:30 am or by 1:30 pm) and be prepared to leave 15 minutes before the next seating (11:45 & 1:45 pm). This helps with a smooth transition and allows for the staff to bus tables for the next group. It also gives your guest ample time to enjoy the brunch\, mimosas\, and vibes.\nIf you have an 11:00 am reservation\, when 12:45 pm comes\, you can try and find seating on the patio\, by the bar or in the secondary dining room if it is available. No need to leave.\nIf your table package is coming with Complimentary Champagne\, please request it from the wait staff. Each reservation has a certain number of bottles complimentary which should be ordered when you sit at your table. These celebratory bottles of champagne DO NOT come with mixers\, orange juice or additional items.\nTo help your guest with smooth entry\, please included their names with your registration below.  You may also send emails if you’d like as well to tables@playfessionals.com. By doing this we can make sure their names are at the front door and the staff will know what table they will be connected to as well.\nPlease remind all your guests that the Brunch Package is a separate fee that can be purchased at the front door for $51.50+Tax ($43 Brunch & One Complimentary Mimosa + $8.50 Tip). While brunch does not need to be purchased to attend\, they can grab drinks from the bar as well.\nANY GUEST NOT INCLUDED IN YOUR TABLE NAMES WILL BE REQUIRED TO PURCHASE A TICKET AT THE DOOR WHILE SUPPLIES LAST.\n\n[/vc_column_text][vc_masonry_media_grid element_width=”6″ gap=”2″ css=”” initial_loading_animation=”fadeIn” grid_id=”vc_gid:1767051733382-c67447e4-ca5d-8″ include=”4354\,898\,4378\,4300\,4006\,829″][/vc_column][/vc_row][vc_row full_width=”stretch_row” content_placement=”middle” css_animation=”fadeIn” row_background_lines=”none”][vc_column][vc_single_image image=”28430″ img_size=”full” alignment=”center” onclick=”link_image” css_animation=”fadeIn” css=””][vc_custom_heading text=”Lounge Spaces” font_container=”tag:h1|text_align:center|color:%23000000″ use_theme_fonts=”yes” css_animation=”fadeIn” css=””][vc_custom_heading text=”(Not ideal for Eating)” font_container=”tag:h2|text_align:center|color:%23000000″ use_theme_fonts=”yes” css_animation=”fadeIn” css=””][vc_empty_space][vc_row_inner][vc_column_inner width=”1/2″][vc_custom_heading text=”Lounge A” font_container=”tag:h2|text_align:center|color:%23000000″ use_theme_fonts=”yes” css_animation=”fadeIn” css=””][vc_single_image image=”28412″ img_size=”full” alignment=”center” onclick=”link_image” css_animation=”fadeIn” css=””][/vc_column_inner][vc_column_inner width=”1/2″][vc_custom_heading text=”Lounge B” font_container=”tag:h2|text_align:center|color:%23000000″ use_theme_fonts=”yes” css_animation=”fadeIn” css=””][vc_single_image image=”28417″ img_size=”full” alignment=”center” onclick=”link_image” css_animation=”fadeIn” css=””][/vc_column_inner][/vc_row_inner][vc_row_inner][vc_column_inner width=”1/2″][vc_custom_heading text=”Lounge C” font_container=”tag:h2|text_align:center|color:%23000000″ use_theme_fonts=”yes” css_animation=”fadeIn” css=””][vc_single_image image=”28421″ img_size=”full” alignment=”center” onclick=”link_image” css_animation=”fadeIn” css=””][/vc_column_inner][vc_column_inner width=”1/2″][vc_custom_heading text=”Lounge D” font_container=”tag:h2|text_align:center|color:%23000000″ use_theme_fonts=”yes” css_animation=”fadeIn” css=””][vc_single_image image=”28420″ img_size=”full” alignment=”center” onclick=”link_image” css_animation=”fadeIn” css=””][/vc_column_inner][/vc_row_inner][/vc_column][/vc_row]
URL:https://playfessionals.com/network-event/table-reservations-movers-shakers-brunch-volume-13-brunch-nouveau/
LOCATION:Rand Tower Hotel\, 527 S Marquette Ave\, Minneapolis\, MN\, 55402\, United States
CATEGORIES:Movers & Shakers Brunch,Playfessionals
ATTACH;FMTTYPE=image/jpeg:https://playfessionals.com/wp-content/uploads/2025/12/table-reservations-scaled.jpg
ORGANIZER;CN="Playfessionals":MAILTO:concierge@playfessionals.com
END:VEVENT
BEGIN:VEVENT
DTSTART;TZID=UTC:20260103T110000
DTEND;TZID=UTC:20260103T150000
DTSTAMP:20260423T183342
CREATED:20251221T173705Z
LAST-MODIFIED:20260102T215247Z
UID:28221-1767438000-1767452400@playfessionals.com
SUMMARY:Playfessionals Movers & Shakers Brunch Volume #13 - Brunch Nouveau
DESCRIPTION:[vc_row row_background_lines=”none”][vc_column][vc_column_text css_animation=”fadeIn” css=””] \nPF Movers & Shakers Brunch: Brunch Nouveau\nPlayfessionals proudly returns with the 13th PF Movers & Shakers Brunch\, Brunch Nouveau—a refined evolution of our signature gathering created to bring together driven\, style-forward professionals across the Twin Cities. This chapter continues our commitment to cultivated connections for a lifetime\, blending intentional networking with an elevated social experience designed to feel both effortless and memorable. \nA New Iconic Location: Rand Tower Hotel\nThis edition marks an exciting additional location in addition to the iconic Mr. Pauls Supper Club\, at the historic yet modern Rand Tower Hotel in the heart of Downtown Minneapolis. From the moment you arrive—enhanced by convenient valet parking—the setting signals a premium experience where classic architecture meets contemporary energy. \nBeneath the Glass Ceiling at Blondette\nGuests will gather beneath Blondette’s iconic glass ceiling\, surrounded by sweeping skyline views and refined design details. The space sets the tone for meaningful conversations\, stylish encounters\, and a brunch atmosphere that feels distinctly Playfessionals—polished\, social\, and welcoming. \nBrunch & Bar Experience\nIndulge in Blondette’s buffet brunch (sold separately by the venue)\, featuring bold French-Pacific flavors crafted to impress. Pair your meal with full bar options\, from classic brunch cocktails to elevated sips designed to carry you smoothly through the afternoon. \nBrunch Menu:\n\nFresh Sliced Fruit\nScrambled Eggs with Chives\nBacon & Sausage\nBreakfast Potatoes\, Smashed Reds\nButtermilk Biscuits and Sausage Gravy\nCrispy Fried Chicen Breast and Hot Honey\nShrimp Cocktail\nClassic Caesar Salad\nSelection of Mini desserts\nChef Carved Flank Steak\n\nSoundtrack & Vibe\nThe experience is anchored by sounds from DJ Advance\, delivering a refined mix that balances sophisticated brunch energy with upbeat social vibes—perfect for conversation\, connection\, and celebration. \nAttire & Arrival\nThis is a chic-forward crowd\, so bring your best look and your best energy. Early arrival is highly recommended—especially for guests intending to enjoy brunch—for optimal seating and a relaxed start to the experience. \nEvent Details\n\n\n21+ Networking Brunch \n\n\nTime: 11:00 AM – 3:00 PM \n\n\nEarly Arrival Recommended: 11:00 AM (for brunch seating) \n\n\nTickets: Online purchase only ($45 ticket sales at the door while under capacity) \n\n\nTable Reservations: Available for parties of 5+ for an additional fee\, while availableInquiries: tables@playfessionals.com \n\n\nImportant Notes\n\n\nBrunch buffet is sold separately by the venue \n\n\nNo refunds or rainchecks on entrance tickets unless the event is canceled \n\n\nBrunch Nouveau isn’t just brunch—it’s a curated moment where ambition\, style\, and connection converge in one of Minneapolis’ most iconic settings. \n[/vc_column_text][vc_btn title=”More than 4 People? Reserve a table!” style=”flat” shape=”round” color=”juicy-pink” size=”lg” align=”center” css_animation=”fadeInUp” css=”” button_block=”true” link=”url:https%3A%2F%2Fplayfessionals.com%2Fnetwork-event%2Ftable-reservations-movers-shakers-brunch-volume-13-brunch-nouveau%2F|title:TABLE%20RESERVATIONS%3A%20%20Movers%20%26%20Shakers%20Brunch%20Volume%20%2313%20%E2%80%93%20Brunch%20Nouveau”][vc_masonry_media_grid grid_id=”vc_gid:1767390628007-6c07f246-78db-6″][vc_custom_heading text=”EVENT DETAILS” font_container=”tag:h3|text_align:left” use_theme_fonts=”yes”][vc_column_text css=””]This 21+ networking brunch will be between 11am-3pm. 11:00 am Early Arrival Recommended if intending to eat Brunch for seating purposes. \n *Table reservations available for parties of 5 or more for an additional fee while available. contact tables@playfessionals.com for more information* \n[/vc_column_text][vc_masonry_media_grid grid_id=”vc_gid:1767390628008-06b24b56-6143-10″][vc_custom_heading text=”BRUNCH BUFFET SOLD SEPARATELY AT VENUE” font_container=”tag:h3|text_align:left” use_theme_fonts=”yes” css=””][vc_column_text css_animation=”fadeIn” css=””] \nThe OPTIONAL Blondette Brunch Buffet is available at the door of the venue for $51.50+Tax and includes 1 complimentary mimosas ($43 Brunch Buffet+ $8.50 Gratuity. Tax will be applied at the restaurant)\n  \n\nBRUNCH FROM VENUE IS $51.50+Tax and includes 1 a complimentary mimosa. (Paid at Venue)\n\n\n[/vc_column_text][vc_masonry_media_grid grid_id=”vc_gid:1767390628009-6c259563-ab3b-1″][vc_custom_heading text=”REFUND POLICY” font_container=”tag:h3|text_align:left” use_theme_fonts=”yes”][vc_column_text]Unfortunately NO REFUNDS or RAINCHECKS (unless event is cancelled) will be issued on entrance tickets to event.[/vc_column_text][/vc_column][/vc_row][vc_row row_background_lines=”none”][vc_column][/vc_column][vc_column][vc_masonry_media_grid element_width=”3″ gap=”2″ css=”” initial_loading_animation=”fadeIn” grid_id=”vc_gid:1767390628009-378a38ee-0529-10″ include=”21735\,21750\,21742\,21738\,21707\,21694\,21691\,21680\,21682\,21670\,21673\,21615\,21636\,21648\,21713\,21710\,21717\,21743\,21675″][/vc_column][/vc_row][vc_row disable_element=”yes” row_background_lines=”none”][vc_column][vc_column_text css=””]Brunch Buffet  \nThe optional Brunch Buffet is available at the door of the venue for $42+Tax ($36 Brunch & Two Complimentary Mimosas + $6 Tip) \nBrunch Buffet Fee at the venue includes Food Buffet Wristband &Two complimentary Mimosas while supplies last[/vc_column_text][/vc_column][/vc_row]
URL:https://playfessionals.com/network-event/playfessionals-movers-shakers-brunch-volume-13-brunch-nouveau/
LOCATION:Rand Tower Hotel\, 527 S Marquette Ave\, Minneapolis\, MN\, 55402\, United States
CATEGORIES:Movers & Shakers Brunch,Playfessionals
ATTACH;FMTTYPE=image/jpeg:https://playfessionals.com/wp-content/uploads/2025/12/PF-Movers-2026-SQ.jpg
ORGANIZER;CN="Playfessionals":MAILTO:concierge@playfessionals.com
END:VEVENT
BEGIN:VEVENT
DTSTART;TZID=America/Chicago:20260128T180000
DTEND;TZID=America/Chicago:20260128T210000
DTSTAMP:20260423T183342
CREATED:20260121T123734Z
LAST-MODIFIED:20260206T183723Z
UID:28938-1769623200-1769634000@playfessionals.com
SUMMARY:S.I.P at AVA #11 Minneapolis
DESCRIPTION:[vc_row row_background_lines=”none”][vc_column][vc_column_text css=””] \nWe know it’s Sudden\, maybe even Impulsive but it’s time to Play again!\n  \nJoin the Playfessionals and come get comfortable and cozy with some end of Summer vibes as we revisit this hidden gem in the city’s heart with beautiful professionals.\nWe are featuring a cocktail connoisseurs array of drinks\, at an unbelievable location with an atmosphere you deserve.\n\nThis is your opportunity to catch up with some good company or refresh your network as DJ Willie Shu returns and gets you reacquainted with the sounds of the season. \nThis event is Complimentary but you must RSVP. Dress code is business casual and chic.\nDress code enforced by venue.  \n\nCome to SIP with us!\nYou’ve been summoned. Enjoy![/vc_column_text][vc_empty_space height=”10px”][vc_masonry_media_grid css=”” grid_id=”vc_gid:1768999075510-e1797779-9d20-10″ include=”26706\,26705\,26702\,26696\,26700\,26684\,26710\,26680\,26678\,26668\,26674\,26663″][/vc_column][/vc_row][vc_row disable_element=”yes” row_background_lines=”none”][vc_column][/vc_column][/vc_row]
URL:https://playfessionals.com/network-event/s-i-p-at-ava-11-minneapolis/
LOCATION:AVA Minneapolis\, 124 N 3rd Ave\, Minneapolis\, MN\, 55401\, United States
CATEGORIES:Sudden Impulsive Play
ATTACH;FMTTYPE=image/jpeg:https://playfessionals.com/wp-content/uploads/2026/01/PF-SIP-AVA-2026-Instagram-Story.jpg
ORGANIZER;CN="Playfessionals":MAILTO:concierge@playfessionals.com
END:VEVENT
END:VCALENDAR