BEGIN:VCALENDAR
VERSION:2.0
PRODID:-//Playfessionals - ECPv6.15.20//NONSGML v1.0//EN
CALSCALE:GREGORIAN
METHOD:PUBLISH
X-WR-CALNAME:Playfessionals
X-ORIGINAL-URL:https://playfessionals.com
X-WR-CALDESC:Events for Playfessionals
REFRESH-INTERVAL;VALUE=DURATION:PT1H
X-Robots-Tag:noindex
X-PUBLISHED-TTL:PT1H
BEGIN:VTIMEZONE
TZID:America/Chicago
BEGIN:DAYLIGHT
TZOFFSETFROM:-0600
TZOFFSETTO:-0500
TZNAME:CDT
DTSTART:20240310T080000
END:DAYLIGHT
BEGIN:STANDARD
TZOFFSETFROM:-0500
TZOFFSETTO:-0600
TZNAME:CST
DTSTART:20241103T070000
END:STANDARD
BEGIN:DAYLIGHT
TZOFFSETFROM:-0600
TZOFFSETTO:-0500
TZNAME:CDT
DTSTART:20250309T080000
END:DAYLIGHT
BEGIN:STANDARD
TZOFFSETFROM:-0500
TZOFFSETTO:-0600
TZNAME:CST
DTSTART:20251102T070000
END:STANDARD
BEGIN:DAYLIGHT
TZOFFSETFROM:-0600
TZOFFSETTO:-0500
TZNAME:CDT
DTSTART:20260308T080000
END:DAYLIGHT
BEGIN:STANDARD
TZOFFSETFROM:-0500
TZOFFSETTO:-0600
TZNAME:CST
DTSTART:20261101T070000
END:STANDARD
END:VTIMEZONE
BEGIN:VEVENT
DTSTART;TZID=America/Chicago:20250723T180000
DTEND;TZID=America/Chicago:20250723T210000
DTSTAMP:20260424T074204
CREATED:20250715T015341Z
LAST-MODIFIED:20250715T082249Z
UID:24433-1753293600-1753304400@playfessionals.com
SUMMARY:S.I.P at AVA #8 Minneapolis
DESCRIPTION:[vc_row row_background_lines=”none”][vc_column][vc_column_text css=””] \nWe know it’s Sudden\, maybe even Impulsive but it’s time to Play again!\n  \nJoin the Playfessionals and come get comfortable and cozy with some Spring vibes as we revisit this hidden gem in the city’s heart with beautiful professionals.\nWe are featuring a cocktail connoisseurs array of drinks\, at an unbelievable location with an atmosphere you deserve.\nRelax or Turn up as you explore 2-levels of Instagram-worthy networking with no filters\, just natural connections and a great time!\nThis is your opportunity to catch up with some good company or refresh your network as DJ Willie Shu returns and gets you reacquainted with the sounds of the season. \nThis event is Complimentary but you must RSVP. Dress code is business casual and chic.\nDress code enforced by venue.  \n\nCome to SIP with us!\nYou’ve been summoned. Enjoy![/vc_column_text][vc_empty_space height=”10px”][vc_masonry_media_grid css=”” grid_id=”vc_gid:1752567551333-d6ba6c74-f6df-2″ include=”22249\,22251\,22227\,22176\,22167\,22157\,22160\,22139\,22145\,22132\,22110\,22180\,22189\,22197\,22202\,22200\,22218\,22219\,22165\,22163\,22151\,22152″][/vc_column][/vc_row][vc_row disable_element=”yes” row_background_lines=”none”][vc_column][/vc_column][/vc_row]
URL:https://playfessionals.com/network-event/s-i-p-at-ava-8-minneapolis/
LOCATION:AVA Minneapolis\, 124 N 3rd Ave\, Minneapolis\, MN\, 55401\, United States
CATEGORIES:Sudden Impulsive Play
ATTACH;FMTTYPE=image/jpeg:https://playfessionals.com/wp-content/uploads/2025/07/1000029842.jpg
ORGANIZER;CN="Playfessionals":MAILTO:concierge@playfessionals.com
END:VEVENT
END:VCALENDAR