BEGIN:VCALENDAR
VERSION:2.0
PRODID:-//Playfessionals - ECPv6.15.20//NONSGML v1.0//EN
CALSCALE:GREGORIAN
METHOD:PUBLISH
X-ORIGINAL-URL:https://playfessionals.com
X-WR-CALDESC:Events for Playfessionals
REFRESH-INTERVAL;VALUE=DURATION:PT1H
X-Robots-Tag:noindex
X-PUBLISHED-TTL:PT1H
BEGIN:VTIMEZONE
TZID:America/Chicago
BEGIN:DAYLIGHT
TZOFFSETFROM:-0600
TZOFFSETTO:-0500
TZNAME:CDT
DTSTART:20240310T080000
END:DAYLIGHT
BEGIN:STANDARD
TZOFFSETFROM:-0500
TZOFFSETTO:-0600
TZNAME:CST
DTSTART:20241103T070000
END:STANDARD
BEGIN:DAYLIGHT
TZOFFSETFROM:-0600
TZOFFSETTO:-0500
TZNAME:CDT
DTSTART:20250309T080000
END:DAYLIGHT
BEGIN:STANDARD
TZOFFSETFROM:-0500
TZOFFSETTO:-0600
TZNAME:CST
DTSTART:20251102T070000
END:STANDARD
BEGIN:DAYLIGHT
TZOFFSETFROM:-0600
TZOFFSETTO:-0500
TZNAME:CDT
DTSTART:20260308T080000
END:DAYLIGHT
BEGIN:STANDARD
TZOFFSETFROM:-0500
TZOFFSETTO:-0600
TZNAME:CST
DTSTART:20261101T070000
END:STANDARD
END:VTIMEZONE
BEGIN:VEVENT
DTSTART;TZID=America/Chicago:20250406T140000
DTEND;TZID=America/Chicago:20250406T170000
DTSTAMP:20260424T174805
CREATED:20250218T230512Z
LAST-MODIFIED:20250402T153945Z
UID:19492-1743948000-1743958800@playfessionals.com
SUMMARY:Playfessionals presents: Book Club Session III
DESCRIPTION:[vc_row row_background_lines=”none”][vc_column][vc_column_text css=””] \nJoin us for an afternoon where books meet good vibes and professionals unwind.\nWhether you love books or are just here for the chill energy\, it’s all about connecting\, laughing\, and diving into a new read. \nExpect: Inspiring book discussions (First Book: The 5am Club) \nGood company and a space to vibe and share ideas! \nWe’re all about mixing the art of play with professional life. Don’t miss out![/vc_column_text][vc_empty_space][/vc_column][/vc_row][vc_row row_background_lines=”none”][vc_column width=”1/2″][vc_single_image image=”19473″ img_size=”FULL” css=””][/vc_column][vc_column width=”1/2″][vc_single_image image=”19487″ img_size=”FULL” css=””][/vc_column][/vc_row][vc_row row_background_lines=”none”][vc_column][vc_empty_space][vc_column_text css_animation=”bounceInRight” css=””] \nCurrent Read: The 5 am Club\nAuthor: Robin Sharma\nPreface: Sunday 4/06/2025 \nLocation: Prince Lounge at Eat Street Crossings\nText 612-361-5454 to be apart of Book Club Chat\nCollect your complimentary custom Playfessionals Book Mark when you join the discussion. \nJoin us this Sunday 4/06/2025 at 2:00pm\nPlease Note: This is a Book Club + Connectivity. Come for the book discussion. Stay for the food\, drinks and good company. \nThe Playfessionals Book Club & Vibes for Professionals is more than just a reading group; it is a community of individuals who are committed to lifelong learning and personal growth. By joining our Book Club\, you will have the opportunity to expand your horizons\, connect with like-minded professionals\, and invest in your personal and professional development.[/vc_column_text][/vc_column][/vc_row][vc_row row_background_lines=”none”][vc_column][vc_empty_space][vc_single_image image=”20550″ img_size=”full” css=””][/vc_column][/vc_row]
URL:https://playfessionals.com/network-event/playfessionals-presents-book-club-vibes-session-3/
CATEGORIES:Book Club,Playfessionals
ATTACH;FMTTYPE=image/jpeg:https://playfessionals.com/wp-content/uploads/2025/02/V2-PF-Boo.jpg
ORGANIZER;CN="Playfessionals":MAILTO:concierge@playfessionals.com
END:VEVENT
END:VCALENDAR